BEGIN:VCALENDAR
VERSION:2.0
PRODID:-//Saint James &amp; The Urban Well - ECPv6.15.20//NONSGML v1.0//EN
CALSCALE:GREGORIAN
METHOD:PUBLISH
X-ORIGINAL-URL:https://www.saintjameslancaster.org
X-WR-CALDESC:Events for Saint James &amp; The Urban Well
REFRESH-INTERVAL;VALUE=DURATION:PT1H
X-Robots-Tag:noindex
X-PUBLISHED-TTL:PT1H
BEGIN:VTIMEZONE
TZID:America/New_York
BEGIN:DAYLIGHT
TZOFFSETFROM:-0500
TZOFFSETTO:-0400
TZNAME:EDT
DTSTART:20240310T070000
END:DAYLIGHT
BEGIN:STANDARD
TZOFFSETFROM:-0400
TZOFFSETTO:-0500
TZNAME:EST
DTSTART:20241103T060000
END:STANDARD
BEGIN:DAYLIGHT
TZOFFSETFROM:-0500
TZOFFSETTO:-0400
TZNAME:EDT
DTSTART:20250309T070000
END:DAYLIGHT
BEGIN:STANDARD
TZOFFSETFROM:-0400
TZOFFSETTO:-0500
TZNAME:EST
DTSTART:20251102T060000
END:STANDARD
BEGIN:DAYLIGHT
TZOFFSETFROM:-0500
TZOFFSETTO:-0400
TZNAME:EDT
DTSTART:20260308T070000
END:DAYLIGHT
BEGIN:STANDARD
TZOFFSETFROM:-0400
TZOFFSETTO:-0500
TZNAME:EST
DTSTART:20261101T060000
END:STANDARD
END:VTIMEZONE
BEGIN:VEVENT
DTSTART;TZID=America/New_York:20251108T170000
DTEND;TZID=America/New_York:20251108T170000
DTSTAMP:20260422T114243
CREATED:20251024T171201Z
LAST-MODIFIED:20251027T150621Z
UID:10070639-1762621200-1762621200@www.saintjameslancaster.org
SUMMARY:Saturday Night Mass
DESCRIPTION:Inspired by the music of John Coltrane featuring the Ryan Kauffman Quartet\nUsually presented on the second Saturday of the month\, these masses offer something new and surprising to inspire and challenge you in your faith journey. A broad array of live music features favorite artists from the past\, contemporary artists and contemplative themes while being integrated into traditional Episcopal liturgy. \n  \nMost Saturday Night Masses are streamed and can be viewed from our website by clicking here. \n 
URL:https://www.saintjameslancaster.org/event/saturday-night-mass-5-5/
LOCATION:Saint James Episcopal Church\, 103 North Duke Street\, Lancaster\, PA\, 17602\, United States
CATEGORIES:Saturday Night Mass
ATTACH;FMTTYPE=image/jpeg:https://www.saintjameslancaster.org/wp-content/uploads/2025/10/Featured-Image-copy.jpg
GEO:40.040058;-76.30344
X-APPLE-STRUCTURED-LOCATION;VALUE=URI;X-ADDRESS=Saint James Episcopal Church 103 North Duke Street Lancaster PA 17602 United States;X-APPLE-RADIUS=500;X-TITLE=103 North Duke Street:geo:-76.30344,40.040058
END:VEVENT
END:VCALENDAR