BEGIN:VCALENDAR
VERSION:2.0
PRODID:-//Saint James &amp; The Urban Well - ECPv6.15.20//NONSGML v1.0//EN
CALSCALE:GREGORIAN
METHOD:PUBLISH
X-WR-CALNAME:Saint James &amp; The Urban Well
X-ORIGINAL-URL:https://www.saintjameslancaster.org
X-WR-CALDESC:Events for Saint James &amp; The Urban Well
REFRESH-INTERVAL;VALUE=DURATION:PT1H
X-Robots-Tag:noindex
X-PUBLISHED-TTL:PT1H
BEGIN:VTIMEZONE
TZID:America/New_York
BEGIN:DAYLIGHT
TZOFFSETFROM:-0500
TZOFFSETTO:-0400
TZNAME:EDT
DTSTART:20240310T070000
END:DAYLIGHT
BEGIN:STANDARD
TZOFFSETFROM:-0400
TZOFFSETTO:-0500
TZNAME:EST
DTSTART:20241103T060000
END:STANDARD
BEGIN:DAYLIGHT
TZOFFSETFROM:-0500
TZOFFSETTO:-0400
TZNAME:EDT
DTSTART:20250309T070000
END:DAYLIGHT
BEGIN:STANDARD
TZOFFSETFROM:-0400
TZOFFSETTO:-0500
TZNAME:EST
DTSTART:20251102T060000
END:STANDARD
BEGIN:DAYLIGHT
TZOFFSETFROM:-0500
TZOFFSETTO:-0400
TZNAME:EDT
DTSTART:20260308T070000
END:DAYLIGHT
BEGIN:STANDARD
TZOFFSETFROM:-0400
TZOFFSETTO:-0500
TZNAME:EST
DTSTART:20261101T060000
END:STANDARD
END:VTIMEZONE
BEGIN:VEVENT
DTSTART;TZID=America/New_York:20251103T090000
DTEND;TZID=America/New_York:20251103T100000
DTSTAMP:20260420T102038
CREATED:20251119T193027Z
LAST-MODIFIED:20251119T193648Z
UID:10072442-1762160400-1762164000@www.saintjameslancaster.org
SUMMARY:Mindful Yoga
DESCRIPTION:For more information about our Mindful Yoga Weekly Offerings\, click here. You’ll find info on class schedules\, teachers\, and discounts!
URL:https://www.saintjameslancaster.org/event/mindful-yoga/2025-11-03/
LOCATION:Urban Well Yoga Studio\, 119 N Duke Street\, Lancaster\, 17602\, United States
CATEGORIES:Chair Yoga,Gentle Yoga,Mindful Yoga,Restorative Yoga,Yoga
ATTACH;FMTTYPE=image/jpeg:https://www.saintjameslancaster.org/wp-content/uploads/2025/10/Featured-Image-300px-copy.jpg
GEO:40.0404244;-76.3034829
X-APPLE-STRUCTURED-LOCATION;VALUE=URI;X-ADDRESS=Urban Well Yoga Studio 119 N Duke Street Lancaster 17602 United States;X-APPLE-RADIUS=500;X-TITLE=119 N Duke Street:geo:-76.3034829,40.0404244
END:VEVENT
BEGIN:VEVENT
DTSTART;TZID=America/New_York:20251103T180000
DTEND;TZID=America/New_York:20251103T180000
DTSTAMP:20260420T102038
CREATED:20251119T193505Z
LAST-MODIFIED:20251119T193632Z
UID:10073269-1762192800-1762192800@www.saintjameslancaster.org
SUMMARY:Mindful Yoga
DESCRIPTION:For more information about our Mindful Yoga Weekly Offerings\, click here. You’ll find info on class schedules\, teachers\, and discounts!
URL:https://www.saintjameslancaster.org/event/mindful-yoga-3/2025-11-03/
LOCATION:Urban Well Yoga Studio\, 119 N Duke Street\, Lancaster\, 17602\, United States
CATEGORIES:Chair Yoga,Gentle Yoga,Mindful Yoga,Restorative Yoga,Yoga
ATTACH;FMTTYPE=image/jpeg:https://www.saintjameslancaster.org/wp-content/uploads/2025/10/Featured-Image-300px-copy.jpg
GEO:40.0404244;-76.3034829
X-APPLE-STRUCTURED-LOCATION;VALUE=URI;X-ADDRESS=Urban Well Yoga Studio 119 N Duke Street Lancaster 17602 United States;X-APPLE-RADIUS=500;X-TITLE=119 N Duke Street:geo:-76.3034829,40.0404244
END:VEVENT
BEGIN:VEVENT
DTSTART;TZID=America/New_York:20251104T100000
DTEND;TZID=America/New_York:20251104T100000
DTSTAMP:20260420T102038
CREATED:20241223T135753Z
LAST-MODIFIED:20251002T122212Z
UID:10067363-1762250400-1762250400@www.saintjameslancaster.org
SUMMARY:Mindful Yoga\, Chair
DESCRIPTION:Chair Yoga\nChair yoga is an adaptable and accessible yoga practice that anyone can enjoy\, regardless of age\, flexibility or fitness level\, and those whose work life is spent seated.  Chair yoga is perfect for experiencing the benefits of yoga while using a chair for support and having fun. \n  \nClick here for more details and to purchase sessions.
URL:https://www.saintjameslancaster.org/event/mindful-yoga-chair/2025-11-04/
LOCATION:Saint James Parish House – Yoga Studio in the Lower Level\, 119 North Duke Street\, Lancaster\, PA\, 17602
CATEGORIES:Chair Yoga,Yoga
ATTACH;FMTTYPE=image/jpeg:https://www.saintjameslancaster.org/wp-content/uploads/2025/10/Featured-Image-300px-copy.jpg
GEO:40.0404103;-76.303616
X-APPLE-STRUCTURED-LOCATION;VALUE=URI;X-ADDRESS=Saint James Parish House – Yoga Studio in the Lower Level 119 North Duke Street Lancaster PA 17602;X-APPLE-RADIUS=500;X-TITLE=119 North Duke Street:geo:-76.303616,40.0404103
END:VEVENT
BEGIN:VEVENT
DTSTART;TZID=America/New_York:20251105T090000
DTEND;TZID=America/New_York:20251105T100000
DTSTAMP:20260420T102038
CREATED:20251119T193027Z
LAST-MODIFIED:20251119T193648Z
UID:10072443-1762333200-1762336800@www.saintjameslancaster.org
SUMMARY:Mindful Yoga
DESCRIPTION:For more information about our Mindful Yoga Weekly Offerings\, click here. You’ll find info on class schedules\, teachers\, and discounts!
URL:https://www.saintjameslancaster.org/event/mindful-yoga/2025-11-05/
LOCATION:Urban Well Yoga Studio\, 119 N Duke Street\, Lancaster\, 17602\, United States
CATEGORIES:Chair Yoga,Gentle Yoga,Mindful Yoga,Restorative Yoga,Yoga
ATTACH;FMTTYPE=image/jpeg:https://www.saintjameslancaster.org/wp-content/uploads/2025/10/Featured-Image-300px-copy.jpg
GEO:40.0404244;-76.3034829
X-APPLE-STRUCTURED-LOCATION;VALUE=URI;X-ADDRESS=Urban Well Yoga Studio 119 N Duke Street Lancaster 17602 United States;X-APPLE-RADIUS=500;X-TITLE=119 N Duke Street:geo:-76.3034829,40.0404244
END:VEVENT
BEGIN:VEVENT
DTSTART;TZID=America/New_York:20251106T110000
DTEND;TZID=America/New_York:20251106T110000
DTSTAMP:20260420T102038
CREATED:20241223T140009Z
LAST-MODIFIED:20251017T180547Z
UID:10067621-1762426800-1762426800@www.saintjameslancaster.org
SUMMARY:Mindful Yoga\, Chair
DESCRIPTION:Chair Yoga\nChair yoga is an adaptable and accessible yoga practice that anyone can enjoy\, regardless of age\, flexibility or fitness level\, and those whose work life is spent seated.  Chair yoga is perfect for experiencing the benefits of yoga while using a chair for support and having fun. \n  \nClick here for more details and to purchase tickets.
URL:https://www.saintjameslancaster.org/event/mindful-yoga-chair-2/2025-11-06/
LOCATION:Saint James Parish House – Yoga Studio in the Lower Level\, 119 North Duke Street\, Lancaster\, PA\, 17602
CATEGORIES:Chair Yoga,Gentle Yoga,Mindful Yoga,Restorative Yoga,Yoga
ATTACH;FMTTYPE=image/jpeg:https://www.saintjameslancaster.org/wp-content/uploads/2025/10/Featured-Image-300px-copy.jpg
GEO:40.0404103;-76.303616
X-APPLE-STRUCTURED-LOCATION;VALUE=URI;X-ADDRESS=Saint James Parish House – Yoga Studio in the Lower Level 119 North Duke Street Lancaster PA 17602;X-APPLE-RADIUS=500;X-TITLE=119 North Duke Street:geo:-76.303616,40.0404103
END:VEVENT
BEGIN:VEVENT
DTSTART;TZID=America/New_York:20251107T090000
DTEND;TZID=America/New_York:20251107T100000
DTSTAMP:20260420T102038
CREATED:20251119T193027Z
LAST-MODIFIED:20251119T193648Z
UID:10072444-1762506000-1762509600@www.saintjameslancaster.org
SUMMARY:Mindful Yoga
DESCRIPTION:For more information about our Mindful Yoga Weekly Offerings\, click here. You’ll find info on class schedules\, teachers\, and discounts!
URL:https://www.saintjameslancaster.org/event/mindful-yoga/2025-11-07/
LOCATION:Urban Well Yoga Studio\, 119 N Duke Street\, Lancaster\, 17602\, United States
CATEGORIES:Chair Yoga,Gentle Yoga,Mindful Yoga,Restorative Yoga,Yoga
ATTACH;FMTTYPE=image/jpeg:https://www.saintjameslancaster.org/wp-content/uploads/2025/10/Featured-Image-300px-copy.jpg
GEO:40.0404244;-76.3034829
X-APPLE-STRUCTURED-LOCATION;VALUE=URI;X-ADDRESS=Urban Well Yoga Studio 119 N Duke Street Lancaster 17602 United States;X-APPLE-RADIUS=500;X-TITLE=119 N Duke Street:geo:-76.3034829,40.0404244
END:VEVENT
BEGIN:VEVENT
DTSTART;TZID=America/New_York:20251110T090000
DTEND;TZID=America/New_York:20251110T100000
DTSTAMP:20260420T102038
CREATED:20251119T193027Z
LAST-MODIFIED:20251119T193648Z
UID:10072445-1762765200-1762768800@www.saintjameslancaster.org
SUMMARY:Mindful Yoga
DESCRIPTION:For more information about our Mindful Yoga Weekly Offerings\, click here. You’ll find info on class schedules\, teachers\, and discounts!
URL:https://www.saintjameslancaster.org/event/mindful-yoga/2025-11-10/
LOCATION:Urban Well Yoga Studio\, 119 N Duke Street\, Lancaster\, 17602\, United States
CATEGORIES:Chair Yoga,Gentle Yoga,Mindful Yoga,Restorative Yoga,Yoga
ATTACH;FMTTYPE=image/jpeg:https://www.saintjameslancaster.org/wp-content/uploads/2025/10/Featured-Image-300px-copy.jpg
GEO:40.0404244;-76.3034829
X-APPLE-STRUCTURED-LOCATION;VALUE=URI;X-ADDRESS=Urban Well Yoga Studio 119 N Duke Street Lancaster 17602 United States;X-APPLE-RADIUS=500;X-TITLE=119 N Duke Street:geo:-76.3034829,40.0404244
END:VEVENT
BEGIN:VEVENT
DTSTART;TZID=America/New_York:20251110T180000
DTEND;TZID=America/New_York:20251110T180000
DTSTAMP:20260420T102038
CREATED:20251119T193505Z
LAST-MODIFIED:20251119T193632Z
UID:10073270-1762797600-1762797600@www.saintjameslancaster.org
SUMMARY:Mindful Yoga
DESCRIPTION:For more information about our Mindful Yoga Weekly Offerings\, click here. You’ll find info on class schedules\, teachers\, and discounts!
URL:https://www.saintjameslancaster.org/event/mindful-yoga-3/2025-11-10/
LOCATION:Urban Well Yoga Studio\, 119 N Duke Street\, Lancaster\, 17602\, United States
CATEGORIES:Chair Yoga,Gentle Yoga,Mindful Yoga,Restorative Yoga,Yoga
ATTACH;FMTTYPE=image/jpeg:https://www.saintjameslancaster.org/wp-content/uploads/2025/10/Featured-Image-300px-copy.jpg
GEO:40.0404244;-76.3034829
X-APPLE-STRUCTURED-LOCATION;VALUE=URI;X-ADDRESS=Urban Well Yoga Studio 119 N Duke Street Lancaster 17602 United States;X-APPLE-RADIUS=500;X-TITLE=119 N Duke Street:geo:-76.3034829,40.0404244
END:VEVENT
BEGIN:VEVENT
DTSTART;TZID=America/New_York:20251111T100000
DTEND;TZID=America/New_York:20251111T100000
DTSTAMP:20260420T102038
CREATED:20241223T135753Z
LAST-MODIFIED:20251002T122212Z
UID:10067364-1762855200-1762855200@www.saintjameslancaster.org
SUMMARY:Mindful Yoga\, Chair
DESCRIPTION:Chair Yoga\nChair yoga is an adaptable and accessible yoga practice that anyone can enjoy\, regardless of age\, flexibility or fitness level\, and those whose work life is spent seated.  Chair yoga is perfect for experiencing the benefits of yoga while using a chair for support and having fun. \n  \nClick here for more details and to purchase sessions.
URL:https://www.saintjameslancaster.org/event/mindful-yoga-chair/2025-11-11/
LOCATION:Saint James Parish House – Yoga Studio in the Lower Level\, 119 North Duke Street\, Lancaster\, PA\, 17602
CATEGORIES:Chair Yoga,Yoga
ATTACH;FMTTYPE=image/jpeg:https://www.saintjameslancaster.org/wp-content/uploads/2025/10/Featured-Image-300px-copy.jpg
GEO:40.0404103;-76.303616
X-APPLE-STRUCTURED-LOCATION;VALUE=URI;X-ADDRESS=Saint James Parish House – Yoga Studio in the Lower Level 119 North Duke Street Lancaster PA 17602;X-APPLE-RADIUS=500;X-TITLE=119 North Duke Street:geo:-76.303616,40.0404103
END:VEVENT
BEGIN:VEVENT
DTSTART;TZID=America/New_York:20251112T090000
DTEND;TZID=America/New_York:20251112T100000
DTSTAMP:20260420T102038
CREATED:20251119T193027Z
LAST-MODIFIED:20251119T193648Z
UID:10072446-1762938000-1762941600@www.saintjameslancaster.org
SUMMARY:Mindful Yoga
DESCRIPTION:For more information about our Mindful Yoga Weekly Offerings\, click here. You’ll find info on class schedules\, teachers\, and discounts!
URL:https://www.saintjameslancaster.org/event/mindful-yoga/2025-11-12/
LOCATION:Urban Well Yoga Studio\, 119 N Duke Street\, Lancaster\, 17602\, United States
CATEGORIES:Chair Yoga,Gentle Yoga,Mindful Yoga,Restorative Yoga,Yoga
ATTACH;FMTTYPE=image/jpeg:https://www.saintjameslancaster.org/wp-content/uploads/2025/10/Featured-Image-300px-copy.jpg
GEO:40.0404244;-76.3034829
X-APPLE-STRUCTURED-LOCATION;VALUE=URI;X-ADDRESS=Urban Well Yoga Studio 119 N Duke Street Lancaster 17602 United States;X-APPLE-RADIUS=500;X-TITLE=119 N Duke Street:geo:-76.3034829,40.0404244
END:VEVENT
BEGIN:VEVENT
DTSTART;TZID=America/New_York:20251113T110000
DTEND;TZID=America/New_York:20251113T110000
DTSTAMP:20260420T102038
CREATED:20241223T140009Z
LAST-MODIFIED:20251017T180547Z
UID:10067622-1763031600-1763031600@www.saintjameslancaster.org
SUMMARY:Mindful Yoga\, Chair
DESCRIPTION:Chair Yoga\nChair yoga is an adaptable and accessible yoga practice that anyone can enjoy\, regardless of age\, flexibility or fitness level\, and those whose work life is spent seated.  Chair yoga is perfect for experiencing the benefits of yoga while using a chair for support and having fun. \n  \nClick here for more details and to purchase tickets.
URL:https://www.saintjameslancaster.org/event/mindful-yoga-chair-2/2025-11-13/
LOCATION:Saint James Parish House – Yoga Studio in the Lower Level\, 119 North Duke Street\, Lancaster\, PA\, 17602
CATEGORIES:Chair Yoga,Gentle Yoga,Mindful Yoga,Restorative Yoga,Yoga
ATTACH;FMTTYPE=image/jpeg:https://www.saintjameslancaster.org/wp-content/uploads/2025/10/Featured-Image-300px-copy.jpg
GEO:40.0404103;-76.303616
X-APPLE-STRUCTURED-LOCATION;VALUE=URI;X-ADDRESS=Saint James Parish House – Yoga Studio in the Lower Level 119 North Duke Street Lancaster PA 17602;X-APPLE-RADIUS=500;X-TITLE=119 North Duke Street:geo:-76.303616,40.0404103
END:VEVENT
BEGIN:VEVENT
DTSTART;TZID=America/New_York:20251114T090000
DTEND;TZID=America/New_York:20251114T100000
DTSTAMP:20260420T102038
CREATED:20251119T193027Z
LAST-MODIFIED:20251119T193648Z
UID:10072447-1763110800-1763114400@www.saintjameslancaster.org
SUMMARY:Mindful Yoga
DESCRIPTION:For more information about our Mindful Yoga Weekly Offerings\, click here. You’ll find info on class schedules\, teachers\, and discounts!
URL:https://www.saintjameslancaster.org/event/mindful-yoga/2025-11-14/
LOCATION:Urban Well Yoga Studio\, 119 N Duke Street\, Lancaster\, 17602\, United States
CATEGORIES:Chair Yoga,Gentle Yoga,Mindful Yoga,Restorative Yoga,Yoga
ATTACH;FMTTYPE=image/jpeg:https://www.saintjameslancaster.org/wp-content/uploads/2025/10/Featured-Image-300px-copy.jpg
GEO:40.0404244;-76.3034829
X-APPLE-STRUCTURED-LOCATION;VALUE=URI;X-ADDRESS=Urban Well Yoga Studio 119 N Duke Street Lancaster 17602 United States;X-APPLE-RADIUS=500;X-TITLE=119 N Duke Street:geo:-76.3034829,40.0404244
END:VEVENT
BEGIN:VEVENT
DTSTART;TZID=America/New_York:20251117T090000
DTEND;TZID=America/New_York:20251117T100000
DTSTAMP:20260420T102038
CREATED:20251119T193027Z
LAST-MODIFIED:20251119T193648Z
UID:10072448-1763370000-1763373600@www.saintjameslancaster.org
SUMMARY:Mindful Yoga
DESCRIPTION:For more information about our Mindful Yoga Weekly Offerings\, click here. You’ll find info on class schedules\, teachers\, and discounts!
URL:https://www.saintjameslancaster.org/event/mindful-yoga/2025-11-17/
LOCATION:Urban Well Yoga Studio\, 119 N Duke Street\, Lancaster\, 17602\, United States
CATEGORIES:Chair Yoga,Gentle Yoga,Mindful Yoga,Restorative Yoga,Yoga
ATTACH;FMTTYPE=image/jpeg:https://www.saintjameslancaster.org/wp-content/uploads/2025/10/Featured-Image-300px-copy.jpg
GEO:40.0404244;-76.3034829
X-APPLE-STRUCTURED-LOCATION;VALUE=URI;X-ADDRESS=Urban Well Yoga Studio 119 N Duke Street Lancaster 17602 United States;X-APPLE-RADIUS=500;X-TITLE=119 N Duke Street:geo:-76.3034829,40.0404244
END:VEVENT
BEGIN:VEVENT
DTSTART;TZID=America/New_York:20251117T180000
DTEND;TZID=America/New_York:20251117T180000
DTSTAMP:20260420T102038
CREATED:20251119T193505Z
LAST-MODIFIED:20251119T193632Z
UID:10073271-1763402400-1763402400@www.saintjameslancaster.org
SUMMARY:Mindful Yoga
DESCRIPTION:For more information about our Mindful Yoga Weekly Offerings\, click here. You’ll find info on class schedules\, teachers\, and discounts!
URL:https://www.saintjameslancaster.org/event/mindful-yoga-3/2025-11-17/
LOCATION:Urban Well Yoga Studio\, 119 N Duke Street\, Lancaster\, 17602\, United States
CATEGORIES:Chair Yoga,Gentle Yoga,Mindful Yoga,Restorative Yoga,Yoga
ATTACH;FMTTYPE=image/jpeg:https://www.saintjameslancaster.org/wp-content/uploads/2025/10/Featured-Image-300px-copy.jpg
GEO:40.0404244;-76.3034829
X-APPLE-STRUCTURED-LOCATION;VALUE=URI;X-ADDRESS=Urban Well Yoga Studio 119 N Duke Street Lancaster 17602 United States;X-APPLE-RADIUS=500;X-TITLE=119 N Duke Street:geo:-76.3034829,40.0404244
END:VEVENT
BEGIN:VEVENT
DTSTART;TZID=America/New_York:20251118T100000
DTEND;TZID=America/New_York:20251118T100000
DTSTAMP:20260420T102038
CREATED:20241223T135753Z
LAST-MODIFIED:20251002T122212Z
UID:10067365-1763460000-1763460000@www.saintjameslancaster.org
SUMMARY:Mindful Yoga\, Chair
DESCRIPTION:Chair Yoga\nChair yoga is an adaptable and accessible yoga practice that anyone can enjoy\, regardless of age\, flexibility or fitness level\, and those whose work life is spent seated.  Chair yoga is perfect for experiencing the benefits of yoga while using a chair for support and having fun. \n  \nClick here for more details and to purchase sessions.
URL:https://www.saintjameslancaster.org/event/mindful-yoga-chair/2025-11-18/
LOCATION:Saint James Parish House – Yoga Studio in the Lower Level\, 119 North Duke Street\, Lancaster\, PA\, 17602
CATEGORIES:Chair Yoga,Yoga
ATTACH;FMTTYPE=image/jpeg:https://www.saintjameslancaster.org/wp-content/uploads/2025/10/Featured-Image-300px-copy.jpg
GEO:40.0404103;-76.303616
X-APPLE-STRUCTURED-LOCATION;VALUE=URI;X-ADDRESS=Saint James Parish House – Yoga Studio in the Lower Level 119 North Duke Street Lancaster PA 17602;X-APPLE-RADIUS=500;X-TITLE=119 North Duke Street:geo:-76.303616,40.0404103
END:VEVENT
BEGIN:VEVENT
DTSTART;TZID=America/New_York:20251119T090000
DTEND;TZID=America/New_York:20251119T100000
DTSTAMP:20260420T102038
CREATED:20251119T193027Z
LAST-MODIFIED:20251119T193648Z
UID:10072449-1763542800-1763546400@www.saintjameslancaster.org
SUMMARY:Mindful Yoga
DESCRIPTION:For more information about our Mindful Yoga Weekly Offerings\, click here. You’ll find info on class schedules\, teachers\, and discounts!
URL:https://www.saintjameslancaster.org/event/mindful-yoga/2025-11-19/
LOCATION:Urban Well Yoga Studio\, 119 N Duke Street\, Lancaster\, 17602\, United States
CATEGORIES:Chair Yoga,Gentle Yoga,Mindful Yoga,Restorative Yoga,Yoga
ATTACH;FMTTYPE=image/jpeg:https://www.saintjameslancaster.org/wp-content/uploads/2025/10/Featured-Image-300px-copy.jpg
GEO:40.0404244;-76.3034829
X-APPLE-STRUCTURED-LOCATION;VALUE=URI;X-ADDRESS=Urban Well Yoga Studio 119 N Duke Street Lancaster 17602 United States;X-APPLE-RADIUS=500;X-TITLE=119 N Duke Street:geo:-76.3034829,40.0404244
END:VEVENT
BEGIN:VEVENT
DTSTART;TZID=America/New_York:20251120T110000
DTEND;TZID=America/New_York:20251120T110000
DTSTAMP:20260420T102038
CREATED:20241223T140009Z
LAST-MODIFIED:20251017T180547Z
UID:10067623-1763636400-1763636400@www.saintjameslancaster.org
SUMMARY:Mindful Yoga\, Chair
DESCRIPTION:Chair Yoga\nChair yoga is an adaptable and accessible yoga practice that anyone can enjoy\, regardless of age\, flexibility or fitness level\, and those whose work life is spent seated.  Chair yoga is perfect for experiencing the benefits of yoga while using a chair for support and having fun. \n  \nClick here for more details and to purchase tickets.
URL:https://www.saintjameslancaster.org/event/mindful-yoga-chair-2/2025-11-20/
LOCATION:Saint James Parish House – Yoga Studio in the Lower Level\, 119 North Duke Street\, Lancaster\, PA\, 17602
CATEGORIES:Chair Yoga,Gentle Yoga,Mindful Yoga,Restorative Yoga,Yoga
ATTACH;FMTTYPE=image/jpeg:https://www.saintjameslancaster.org/wp-content/uploads/2025/10/Featured-Image-300px-copy.jpg
GEO:40.0404103;-76.303616
X-APPLE-STRUCTURED-LOCATION;VALUE=URI;X-ADDRESS=Saint James Parish House – Yoga Studio in the Lower Level 119 North Duke Street Lancaster PA 17602;X-APPLE-RADIUS=500;X-TITLE=119 North Duke Street:geo:-76.303616,40.0404103
END:VEVENT
BEGIN:VEVENT
DTSTART;TZID=America/New_York:20251121T090000
DTEND;TZID=America/New_York:20251121T100000
DTSTAMP:20260420T102038
CREATED:20251119T193027Z
LAST-MODIFIED:20251119T193648Z
UID:10072450-1763715600-1763719200@www.saintjameslancaster.org
SUMMARY:Mindful Yoga
DESCRIPTION:For more information about our Mindful Yoga Weekly Offerings\, click here. You’ll find info on class schedules\, teachers\, and discounts!
URL:https://www.saintjameslancaster.org/event/mindful-yoga/2025-11-21/
LOCATION:Urban Well Yoga Studio\, 119 N Duke Street\, Lancaster\, 17602\, United States
CATEGORIES:Chair Yoga,Gentle Yoga,Mindful Yoga,Restorative Yoga,Yoga
ATTACH;FMTTYPE=image/jpeg:https://www.saintjameslancaster.org/wp-content/uploads/2025/10/Featured-Image-300px-copy.jpg
GEO:40.0404244;-76.3034829
X-APPLE-STRUCTURED-LOCATION;VALUE=URI;X-ADDRESS=Urban Well Yoga Studio 119 N Duke Street Lancaster 17602 United States;X-APPLE-RADIUS=500;X-TITLE=119 N Duke Street:geo:-76.3034829,40.0404244
END:VEVENT
BEGIN:VEVENT
DTSTART;TZID=America/New_York:20251124T090000
DTEND;TZID=America/New_York:20251124T100000
DTSTAMP:20260420T102038
CREATED:20251119T193027Z
LAST-MODIFIED:20251119T193648Z
UID:10072451-1763974800-1763978400@www.saintjameslancaster.org
SUMMARY:Mindful Yoga
DESCRIPTION:For more information about our Mindful Yoga Weekly Offerings\, click here. You’ll find info on class schedules\, teachers\, and discounts!
URL:https://www.saintjameslancaster.org/event/mindful-yoga/2025-11-24/
LOCATION:Urban Well Yoga Studio\, 119 N Duke Street\, Lancaster\, 17602\, United States
CATEGORIES:Chair Yoga,Gentle Yoga,Mindful Yoga,Restorative Yoga,Yoga
ATTACH;FMTTYPE=image/jpeg:https://www.saintjameslancaster.org/wp-content/uploads/2025/10/Featured-Image-300px-copy.jpg
GEO:40.0404244;-76.3034829
X-APPLE-STRUCTURED-LOCATION;VALUE=URI;X-ADDRESS=Urban Well Yoga Studio 119 N Duke Street Lancaster 17602 United States;X-APPLE-RADIUS=500;X-TITLE=119 N Duke Street:geo:-76.3034829,40.0404244
END:VEVENT
BEGIN:VEVENT
DTSTART;TZID=America/New_York:20251124T180000
DTEND;TZID=America/New_York:20251124T180000
DTSTAMP:20260420T102038
CREATED:20251119T193505Z
LAST-MODIFIED:20251119T193632Z
UID:10073272-1764007200-1764007200@www.saintjameslancaster.org
SUMMARY:Mindful Yoga
DESCRIPTION:For more information about our Mindful Yoga Weekly Offerings\, click here. You’ll find info on class schedules\, teachers\, and discounts!
URL:https://www.saintjameslancaster.org/event/mindful-yoga-3/2025-11-24/
LOCATION:Urban Well Yoga Studio\, 119 N Duke Street\, Lancaster\, 17602\, United States
CATEGORIES:Chair Yoga,Gentle Yoga,Mindful Yoga,Restorative Yoga,Yoga
ATTACH;FMTTYPE=image/jpeg:https://www.saintjameslancaster.org/wp-content/uploads/2025/10/Featured-Image-300px-copy.jpg
GEO:40.0404244;-76.3034829
X-APPLE-STRUCTURED-LOCATION;VALUE=URI;X-ADDRESS=Urban Well Yoga Studio 119 N Duke Street Lancaster 17602 United States;X-APPLE-RADIUS=500;X-TITLE=119 N Duke Street:geo:-76.3034829,40.0404244
END:VEVENT
BEGIN:VEVENT
DTSTART;TZID=America/New_York:20251125T100000
DTEND;TZID=America/New_York:20251125T100000
DTSTAMP:20260420T102038
CREATED:20241223T135753Z
LAST-MODIFIED:20251002T122212Z
UID:10067366-1764064800-1764064800@www.saintjameslancaster.org
SUMMARY:Mindful Yoga\, Chair
DESCRIPTION:Chair Yoga\nChair yoga is an adaptable and accessible yoga practice that anyone can enjoy\, regardless of age\, flexibility or fitness level\, and those whose work life is spent seated.  Chair yoga is perfect for experiencing the benefits of yoga while using a chair for support and having fun. \n  \nClick here for more details and to purchase sessions.
URL:https://www.saintjameslancaster.org/event/mindful-yoga-chair/2025-11-25/
LOCATION:Saint James Parish House – Yoga Studio in the Lower Level\, 119 North Duke Street\, Lancaster\, PA\, 17602
CATEGORIES:Chair Yoga,Yoga
ATTACH;FMTTYPE=image/jpeg:https://www.saintjameslancaster.org/wp-content/uploads/2025/10/Featured-Image-300px-copy.jpg
GEO:40.0404103;-76.303616
X-APPLE-STRUCTURED-LOCATION;VALUE=URI;X-ADDRESS=Saint James Parish House – Yoga Studio in the Lower Level 119 North Duke Street Lancaster PA 17602;X-APPLE-RADIUS=500;X-TITLE=119 North Duke Street:geo:-76.303616,40.0404103
END:VEVENT
BEGIN:VEVENT
DTSTART;TZID=America/New_York:20251126T090000
DTEND;TZID=America/New_York:20251126T100000
DTSTAMP:20260420T102038
CREATED:20251119T193027Z
LAST-MODIFIED:20251119T193648Z
UID:10072452-1764147600-1764151200@www.saintjameslancaster.org
SUMMARY:Mindful Yoga
DESCRIPTION:For more information about our Mindful Yoga Weekly Offerings\, click here. You’ll find info on class schedules\, teachers\, and discounts!
URL:https://www.saintjameslancaster.org/event/mindful-yoga/2025-11-26/
LOCATION:Urban Well Yoga Studio\, 119 N Duke Street\, Lancaster\, 17602\, United States
CATEGORIES:Chair Yoga,Gentle Yoga,Mindful Yoga,Restorative Yoga,Yoga
ATTACH;FMTTYPE=image/jpeg:https://www.saintjameslancaster.org/wp-content/uploads/2025/10/Featured-Image-300px-copy.jpg
GEO:40.0404244;-76.3034829
X-APPLE-STRUCTURED-LOCATION;VALUE=URI;X-ADDRESS=Urban Well Yoga Studio 119 N Duke Street Lancaster 17602 United States;X-APPLE-RADIUS=500;X-TITLE=119 N Duke Street:geo:-76.3034829,40.0404244
END:VEVENT
END:VCALENDAR