BEGIN:VCALENDAR
VERSION:2.0
PRODID:-//Saint James &amp; The Urban Well - ECPv6.15.20//NONSGML v1.0//EN
CALSCALE:GREGORIAN
METHOD:PUBLISH
X-WR-CALNAME:Saint James &amp; The Urban Well
X-ORIGINAL-URL:https://www.saintjameslancaster.org
X-WR-CALDESC:Events for Saint James &amp; The Urban Well
REFRESH-INTERVAL;VALUE=DURATION:PT1H
X-Robots-Tag:noindex
X-PUBLISHED-TTL:PT1H
BEGIN:VTIMEZONE
TZID:America/New_York
BEGIN:DAYLIGHT
TZOFFSETFROM:-0500
TZOFFSETTO:-0400
TZNAME:EDT
DTSTART:20260308T070000
END:DAYLIGHT
BEGIN:STANDARD
TZOFFSETFROM:-0400
TZOFFSETTO:-0500
TZNAME:EST
DTSTART:20261101T060000
END:STANDARD
BEGIN:DAYLIGHT
TZOFFSETFROM:-0500
TZOFFSETTO:-0400
TZNAME:EDT
DTSTART:20270314T070000
END:DAYLIGHT
BEGIN:STANDARD
TZOFFSETFROM:-0400
TZOFFSETTO:-0500
TZNAME:EST
DTSTART:20271107T060000
END:STANDARD
BEGIN:DAYLIGHT
TZOFFSETFROM:-0500
TZOFFSETTO:-0400
TZNAME:EDT
DTSTART:20280312T070000
END:DAYLIGHT
BEGIN:STANDARD
TZOFFSETFROM:-0400
TZOFFSETTO:-0500
TZNAME:EST
DTSTART:20281105T060000
END:STANDARD
END:VTIMEZONE
BEGIN:VEVENT
DTSTART;TZID=America/New_York:20270701T110000
DTEND;TZID=America/New_York:20270701T110000
DTSTAMP:20260421T044918
CREATED:20241223T140009Z
LAST-MODIFIED:20251017T180547Z
UID:10067707-1814439600-1814439600@www.saintjameslancaster.org
SUMMARY:Mindful Yoga\, Chair
DESCRIPTION:Chair Yoga\nChair yoga is an adaptable and accessible yoga practice that anyone can enjoy\, regardless of age\, flexibility or fitness level\, and those whose work life is spent seated.  Chair yoga is perfect for experiencing the benefits of yoga while using a chair for support and having fun. \n  \nClick here for more details and to purchase tickets.
URL:https://www.saintjameslancaster.org/event/mindful-yoga-chair-2/2027-07-01/
LOCATION:Saint James Parish House – Yoga Studio in the Lower Level\, 119 North Duke Street\, Lancaster\, PA\, 17602
CATEGORIES:Chair Yoga,Gentle Yoga,Mindful Yoga,Restorative Yoga,Yoga
ATTACH;FMTTYPE=image/jpeg:https://www.saintjameslancaster.org/wp-content/uploads/2025/10/Featured-Image-300px-copy.jpg
GEO:40.0404103;-76.303616
X-APPLE-STRUCTURED-LOCATION;VALUE=URI;X-ADDRESS=Saint James Parish House – Yoga Studio in the Lower Level 119 North Duke Street Lancaster PA 17602;X-APPLE-RADIUS=500;X-TITLE=119 North Duke Street:geo:-76.303616,40.0404103
END:VEVENT
BEGIN:VEVENT
DTSTART;TZID=America/New_York:20270702T090000
DTEND;TZID=America/New_York:20270702T100000
DTSTAMP:20260421T044918
CREATED:20251119T193027Z
LAST-MODIFIED:20251119T193648Z
UID:10072696-1814518800-1814522400@www.saintjameslancaster.org
SUMMARY:Mindful Yoga
DESCRIPTION:For more information about our Mindful Yoga Weekly Offerings\, click here. You’ll find info on class schedules\, teachers\, and discounts!
URL:https://www.saintjameslancaster.org/event/mindful-yoga/2027-07-02/
LOCATION:Urban Well Yoga Studio\, 119 N Duke Street\, Lancaster\, 17602\, United States
CATEGORIES:Chair Yoga,Gentle Yoga,Mindful Yoga,Restorative Yoga,Yoga
ATTACH;FMTTYPE=image/jpeg:https://www.saintjameslancaster.org/wp-content/uploads/2025/10/Featured-Image-300px-copy.jpg
GEO:40.0404244;-76.3034829
X-APPLE-STRUCTURED-LOCATION;VALUE=URI;X-ADDRESS=Urban Well Yoga Studio 119 N Duke Street Lancaster 17602 United States;X-APPLE-RADIUS=500;X-TITLE=119 N Duke Street:geo:-76.3034829,40.0404244
END:VEVENT
BEGIN:VEVENT
DTSTART;TZID=America/New_York:20270705T090000
DTEND;TZID=America/New_York:20270705T100000
DTSTAMP:20260421T044918
CREATED:20251119T193027Z
LAST-MODIFIED:20251119T193648Z
UID:10072697-1814778000-1814781600@www.saintjameslancaster.org
SUMMARY:Mindful Yoga
DESCRIPTION:For more information about our Mindful Yoga Weekly Offerings\, click here. You’ll find info on class schedules\, teachers\, and discounts!
URL:https://www.saintjameslancaster.org/event/mindful-yoga/2027-07-05/
LOCATION:Urban Well Yoga Studio\, 119 N Duke Street\, Lancaster\, 17602\, United States
CATEGORIES:Chair Yoga,Gentle Yoga,Mindful Yoga,Restorative Yoga,Yoga
ATTACH;FMTTYPE=image/jpeg:https://www.saintjameslancaster.org/wp-content/uploads/2025/10/Featured-Image-300px-copy.jpg
GEO:40.0404244;-76.3034829
X-APPLE-STRUCTURED-LOCATION;VALUE=URI;X-ADDRESS=Urban Well Yoga Studio 119 N Duke Street Lancaster 17602 United States;X-APPLE-RADIUS=500;X-TITLE=119 N Duke Street:geo:-76.3034829,40.0404244
END:VEVENT
BEGIN:VEVENT
DTSTART;TZID=America/New_York:20270705T180000
DTEND;TZID=America/New_York:20270705T180000
DTSTAMP:20260421T044918
CREATED:20251119T193505Z
LAST-MODIFIED:20251119T193632Z
UID:10073354-1814810400-1814810400@www.saintjameslancaster.org
SUMMARY:Mindful Yoga
DESCRIPTION:For more information about our Mindful Yoga Weekly Offerings\, click here. You’ll find info on class schedules\, teachers\, and discounts!
URL:https://www.saintjameslancaster.org/event/mindful-yoga-3/2027-07-05/
LOCATION:Urban Well Yoga Studio\, 119 N Duke Street\, Lancaster\, 17602\, United States
CATEGORIES:Chair Yoga,Gentle Yoga,Mindful Yoga,Restorative Yoga,Yoga
ATTACH;FMTTYPE=image/jpeg:https://www.saintjameslancaster.org/wp-content/uploads/2025/10/Featured-Image-300px-copy.jpg
GEO:40.0404244;-76.3034829
X-APPLE-STRUCTURED-LOCATION;VALUE=URI;X-ADDRESS=Urban Well Yoga Studio 119 N Duke Street Lancaster 17602 United States;X-APPLE-RADIUS=500;X-TITLE=119 N Duke Street:geo:-76.3034829,40.0404244
END:VEVENT
BEGIN:VEVENT
DTSTART;TZID=America/New_York:20270706T100000
DTEND;TZID=America/New_York:20270706T100000
DTSTAMP:20260421T044918
CREATED:20241223T135753Z
LAST-MODIFIED:20251002T122212Z
UID:10067450-1814868000-1814868000@www.saintjameslancaster.org
SUMMARY:Mindful Yoga\, Chair
DESCRIPTION:Chair Yoga\nChair yoga is an adaptable and accessible yoga practice that anyone can enjoy\, regardless of age\, flexibility or fitness level\, and those whose work life is spent seated.  Chair yoga is perfect for experiencing the benefits of yoga while using a chair for support and having fun. \n  \nClick here for more details and to purchase sessions.
URL:https://www.saintjameslancaster.org/event/mindful-yoga-chair/2027-07-06/
LOCATION:Saint James Parish House – Yoga Studio in the Lower Level\, 119 North Duke Street\, Lancaster\, PA\, 17602
CATEGORIES:Chair Yoga,Yoga
ATTACH;FMTTYPE=image/jpeg:https://www.saintjameslancaster.org/wp-content/uploads/2025/10/Featured-Image-300px-copy.jpg
GEO:40.0404103;-76.303616
X-APPLE-STRUCTURED-LOCATION;VALUE=URI;X-ADDRESS=Saint James Parish House – Yoga Studio in the Lower Level 119 North Duke Street Lancaster PA 17602;X-APPLE-RADIUS=500;X-TITLE=119 North Duke Street:geo:-76.303616,40.0404103
END:VEVENT
BEGIN:VEVENT
DTSTART;TZID=America/New_York:20270707T090000
DTEND;TZID=America/New_York:20270707T100000
DTSTAMP:20260421T044918
CREATED:20251119T193027Z
LAST-MODIFIED:20251119T193648Z
UID:10072698-1814950800-1814954400@www.saintjameslancaster.org
SUMMARY:Mindful Yoga
DESCRIPTION:For more information about our Mindful Yoga Weekly Offerings\, click here. You’ll find info on class schedules\, teachers\, and discounts!
URL:https://www.saintjameslancaster.org/event/mindful-yoga/2027-07-07/
LOCATION:Urban Well Yoga Studio\, 119 N Duke Street\, Lancaster\, 17602\, United States
CATEGORIES:Chair Yoga,Gentle Yoga,Mindful Yoga,Restorative Yoga,Yoga
ATTACH;FMTTYPE=image/jpeg:https://www.saintjameslancaster.org/wp-content/uploads/2025/10/Featured-Image-300px-copy.jpg
GEO:40.0404244;-76.3034829
X-APPLE-STRUCTURED-LOCATION;VALUE=URI;X-ADDRESS=Urban Well Yoga Studio 119 N Duke Street Lancaster 17602 United States;X-APPLE-RADIUS=500;X-TITLE=119 N Duke Street:geo:-76.3034829,40.0404244
END:VEVENT
BEGIN:VEVENT
DTSTART;TZID=America/New_York:20270708T110000
DTEND;TZID=America/New_York:20270708T110000
DTSTAMP:20260421T044918
CREATED:20241223T140009Z
LAST-MODIFIED:20251017T180547Z
UID:10067708-1815044400-1815044400@www.saintjameslancaster.org
SUMMARY:Mindful Yoga\, Chair
DESCRIPTION:Chair Yoga\nChair yoga is an adaptable and accessible yoga practice that anyone can enjoy\, regardless of age\, flexibility or fitness level\, and those whose work life is spent seated.  Chair yoga is perfect for experiencing the benefits of yoga while using a chair for support and having fun. \n  \nClick here for more details and to purchase tickets.
URL:https://www.saintjameslancaster.org/event/mindful-yoga-chair-2/2027-07-08/
LOCATION:Saint James Parish House – Yoga Studio in the Lower Level\, 119 North Duke Street\, Lancaster\, PA\, 17602
CATEGORIES:Chair Yoga,Gentle Yoga,Mindful Yoga,Restorative Yoga,Yoga
ATTACH;FMTTYPE=image/jpeg:https://www.saintjameslancaster.org/wp-content/uploads/2025/10/Featured-Image-300px-copy.jpg
GEO:40.0404103;-76.303616
X-APPLE-STRUCTURED-LOCATION;VALUE=URI;X-ADDRESS=Saint James Parish House – Yoga Studio in the Lower Level 119 North Duke Street Lancaster PA 17602;X-APPLE-RADIUS=500;X-TITLE=119 North Duke Street:geo:-76.303616,40.0404103
END:VEVENT
BEGIN:VEVENT
DTSTART;TZID=America/New_York:20270709T090000
DTEND;TZID=America/New_York:20270709T100000
DTSTAMP:20260421T044918
CREATED:20251119T193027Z
LAST-MODIFIED:20251119T193648Z
UID:10072699-1815123600-1815127200@www.saintjameslancaster.org
SUMMARY:Mindful Yoga
DESCRIPTION:For more information about our Mindful Yoga Weekly Offerings\, click here. You’ll find info on class schedules\, teachers\, and discounts!
URL:https://www.saintjameslancaster.org/event/mindful-yoga/2027-07-09/
LOCATION:Urban Well Yoga Studio\, 119 N Duke Street\, Lancaster\, 17602\, United States
CATEGORIES:Chair Yoga,Gentle Yoga,Mindful Yoga,Restorative Yoga,Yoga
ATTACH;FMTTYPE=image/jpeg:https://www.saintjameslancaster.org/wp-content/uploads/2025/10/Featured-Image-300px-copy.jpg
GEO:40.0404244;-76.3034829
X-APPLE-STRUCTURED-LOCATION;VALUE=URI;X-ADDRESS=Urban Well Yoga Studio 119 N Duke Street Lancaster 17602 United States;X-APPLE-RADIUS=500;X-TITLE=119 N Duke Street:geo:-76.3034829,40.0404244
END:VEVENT
BEGIN:VEVENT
DTSTART;TZID=America/New_York:20270712T090000
DTEND;TZID=America/New_York:20270712T100000
DTSTAMP:20260421T044918
CREATED:20251119T193027Z
LAST-MODIFIED:20251119T193648Z
UID:10072700-1815382800-1815386400@www.saintjameslancaster.org
SUMMARY:Mindful Yoga
DESCRIPTION:For more information about our Mindful Yoga Weekly Offerings\, click here. You’ll find info on class schedules\, teachers\, and discounts!
URL:https://www.saintjameslancaster.org/event/mindful-yoga/2027-07-12/
LOCATION:Urban Well Yoga Studio\, 119 N Duke Street\, Lancaster\, 17602\, United States
CATEGORIES:Chair Yoga,Gentle Yoga,Mindful Yoga,Restorative Yoga,Yoga
ATTACH;FMTTYPE=image/jpeg:https://www.saintjameslancaster.org/wp-content/uploads/2025/10/Featured-Image-300px-copy.jpg
GEO:40.0404244;-76.3034829
X-APPLE-STRUCTURED-LOCATION;VALUE=URI;X-ADDRESS=Urban Well Yoga Studio 119 N Duke Street Lancaster 17602 United States;X-APPLE-RADIUS=500;X-TITLE=119 N Duke Street:geo:-76.3034829,40.0404244
END:VEVENT
BEGIN:VEVENT
DTSTART;TZID=America/New_York:20270712T180000
DTEND;TZID=America/New_York:20270712T180000
DTSTAMP:20260421T044918
CREATED:20251119T193505Z
LAST-MODIFIED:20251119T193632Z
UID:10073355-1815415200-1815415200@www.saintjameslancaster.org
SUMMARY:Mindful Yoga
DESCRIPTION:For more information about our Mindful Yoga Weekly Offerings\, click here. You’ll find info on class schedules\, teachers\, and discounts!
URL:https://www.saintjameslancaster.org/event/mindful-yoga-3/2027-07-12/
LOCATION:Urban Well Yoga Studio\, 119 N Duke Street\, Lancaster\, 17602\, United States
CATEGORIES:Chair Yoga,Gentle Yoga,Mindful Yoga,Restorative Yoga,Yoga
ATTACH;FMTTYPE=image/jpeg:https://www.saintjameslancaster.org/wp-content/uploads/2025/10/Featured-Image-300px-copy.jpg
GEO:40.0404244;-76.3034829
X-APPLE-STRUCTURED-LOCATION;VALUE=URI;X-ADDRESS=Urban Well Yoga Studio 119 N Duke Street Lancaster 17602 United States;X-APPLE-RADIUS=500;X-TITLE=119 N Duke Street:geo:-76.3034829,40.0404244
END:VEVENT
BEGIN:VEVENT
DTSTART;TZID=America/New_York:20270713T100000
DTEND;TZID=America/New_York:20270713T100000
DTSTAMP:20260421T044918
CREATED:20241223T135753Z
LAST-MODIFIED:20251002T122212Z
UID:10067451-1815472800-1815472800@www.saintjameslancaster.org
SUMMARY:Mindful Yoga\, Chair
DESCRIPTION:Chair Yoga\nChair yoga is an adaptable and accessible yoga practice that anyone can enjoy\, regardless of age\, flexibility or fitness level\, and those whose work life is spent seated.  Chair yoga is perfect for experiencing the benefits of yoga while using a chair for support and having fun. \n  \nClick here for more details and to purchase sessions.
URL:https://www.saintjameslancaster.org/event/mindful-yoga-chair/2027-07-13/
LOCATION:Saint James Parish House – Yoga Studio in the Lower Level\, 119 North Duke Street\, Lancaster\, PA\, 17602
CATEGORIES:Chair Yoga,Yoga
ATTACH;FMTTYPE=image/jpeg:https://www.saintjameslancaster.org/wp-content/uploads/2025/10/Featured-Image-300px-copy.jpg
GEO:40.0404103;-76.303616
X-APPLE-STRUCTURED-LOCATION;VALUE=URI;X-ADDRESS=Saint James Parish House – Yoga Studio in the Lower Level 119 North Duke Street Lancaster PA 17602;X-APPLE-RADIUS=500;X-TITLE=119 North Duke Street:geo:-76.303616,40.0404103
END:VEVENT
BEGIN:VEVENT
DTSTART;TZID=America/New_York:20270714T090000
DTEND;TZID=America/New_York:20270714T100000
DTSTAMP:20260421T044918
CREATED:20251119T193027Z
LAST-MODIFIED:20251119T193648Z
UID:10072701-1815555600-1815559200@www.saintjameslancaster.org
SUMMARY:Mindful Yoga
DESCRIPTION:For more information about our Mindful Yoga Weekly Offerings\, click here. You’ll find info on class schedules\, teachers\, and discounts!
URL:https://www.saintjameslancaster.org/event/mindful-yoga/2027-07-14/
LOCATION:Urban Well Yoga Studio\, 119 N Duke Street\, Lancaster\, 17602\, United States
CATEGORIES:Chair Yoga,Gentle Yoga,Mindful Yoga,Restorative Yoga,Yoga
ATTACH;FMTTYPE=image/jpeg:https://www.saintjameslancaster.org/wp-content/uploads/2025/10/Featured-Image-300px-copy.jpg
GEO:40.0404244;-76.3034829
X-APPLE-STRUCTURED-LOCATION;VALUE=URI;X-ADDRESS=Urban Well Yoga Studio 119 N Duke Street Lancaster 17602 United States;X-APPLE-RADIUS=500;X-TITLE=119 N Duke Street:geo:-76.3034829,40.0404244
END:VEVENT
BEGIN:VEVENT
DTSTART;TZID=America/New_York:20270715T110000
DTEND;TZID=America/New_York:20270715T110000
DTSTAMP:20260421T044918
CREATED:20241223T140009Z
LAST-MODIFIED:20251017T180547Z
UID:10067709-1815649200-1815649200@www.saintjameslancaster.org
SUMMARY:Mindful Yoga\, Chair
DESCRIPTION:Chair Yoga\nChair yoga is an adaptable and accessible yoga practice that anyone can enjoy\, regardless of age\, flexibility or fitness level\, and those whose work life is spent seated.  Chair yoga is perfect for experiencing the benefits of yoga while using a chair for support and having fun. \n  \nClick here for more details and to purchase tickets.
URL:https://www.saintjameslancaster.org/event/mindful-yoga-chair-2/2027-07-15/
LOCATION:Saint James Parish House – Yoga Studio in the Lower Level\, 119 North Duke Street\, Lancaster\, PA\, 17602
CATEGORIES:Chair Yoga,Gentle Yoga,Mindful Yoga,Restorative Yoga,Yoga
ATTACH;FMTTYPE=image/jpeg:https://www.saintjameslancaster.org/wp-content/uploads/2025/10/Featured-Image-300px-copy.jpg
GEO:40.0404103;-76.303616
X-APPLE-STRUCTURED-LOCATION;VALUE=URI;X-ADDRESS=Saint James Parish House – Yoga Studio in the Lower Level 119 North Duke Street Lancaster PA 17602;X-APPLE-RADIUS=500;X-TITLE=119 North Duke Street:geo:-76.303616,40.0404103
END:VEVENT
BEGIN:VEVENT
DTSTART;TZID=America/New_York:20270716T090000
DTEND;TZID=America/New_York:20270716T100000
DTSTAMP:20260421T044918
CREATED:20251119T193027Z
LAST-MODIFIED:20251119T193648Z
UID:10072702-1815728400-1815732000@www.saintjameslancaster.org
SUMMARY:Mindful Yoga
DESCRIPTION:For more information about our Mindful Yoga Weekly Offerings\, click here. You’ll find info on class schedules\, teachers\, and discounts!
URL:https://www.saintjameslancaster.org/event/mindful-yoga/2027-07-16/
LOCATION:Urban Well Yoga Studio\, 119 N Duke Street\, Lancaster\, 17602\, United States
CATEGORIES:Chair Yoga,Gentle Yoga,Mindful Yoga,Restorative Yoga,Yoga
ATTACH;FMTTYPE=image/jpeg:https://www.saintjameslancaster.org/wp-content/uploads/2025/10/Featured-Image-300px-copy.jpg
GEO:40.0404244;-76.3034829
X-APPLE-STRUCTURED-LOCATION;VALUE=URI;X-ADDRESS=Urban Well Yoga Studio 119 N Duke Street Lancaster 17602 United States;X-APPLE-RADIUS=500;X-TITLE=119 N Duke Street:geo:-76.3034829,40.0404244
END:VEVENT
BEGIN:VEVENT
DTSTART;TZID=America/New_York:20270719T090000
DTEND;TZID=America/New_York:20270719T100000
DTSTAMP:20260421T044918
CREATED:20251119T193027Z
LAST-MODIFIED:20251119T193648Z
UID:10072703-1815987600-1815991200@www.saintjameslancaster.org
SUMMARY:Mindful Yoga
DESCRIPTION:For more information about our Mindful Yoga Weekly Offerings\, click here. You’ll find info on class schedules\, teachers\, and discounts!
URL:https://www.saintjameslancaster.org/event/mindful-yoga/2027-07-19/
LOCATION:Urban Well Yoga Studio\, 119 N Duke Street\, Lancaster\, 17602\, United States
CATEGORIES:Chair Yoga,Gentle Yoga,Mindful Yoga,Restorative Yoga,Yoga
ATTACH;FMTTYPE=image/jpeg:https://www.saintjameslancaster.org/wp-content/uploads/2025/10/Featured-Image-300px-copy.jpg
GEO:40.0404244;-76.3034829
X-APPLE-STRUCTURED-LOCATION;VALUE=URI;X-ADDRESS=Urban Well Yoga Studio 119 N Duke Street Lancaster 17602 United States;X-APPLE-RADIUS=500;X-TITLE=119 N Duke Street:geo:-76.3034829,40.0404244
END:VEVENT
BEGIN:VEVENT
DTSTART;TZID=America/New_York:20270719T180000
DTEND;TZID=America/New_York:20270719T180000
DTSTAMP:20260421T044918
CREATED:20251119T193505Z
LAST-MODIFIED:20251119T193632Z
UID:10073356-1816020000-1816020000@www.saintjameslancaster.org
SUMMARY:Mindful Yoga
DESCRIPTION:For more information about our Mindful Yoga Weekly Offerings\, click here. You’ll find info on class schedules\, teachers\, and discounts!
URL:https://www.saintjameslancaster.org/event/mindful-yoga-3/2027-07-19/
LOCATION:Urban Well Yoga Studio\, 119 N Duke Street\, Lancaster\, 17602\, United States
CATEGORIES:Chair Yoga,Gentle Yoga,Mindful Yoga,Restorative Yoga,Yoga
ATTACH;FMTTYPE=image/jpeg:https://www.saintjameslancaster.org/wp-content/uploads/2025/10/Featured-Image-300px-copy.jpg
GEO:40.0404244;-76.3034829
X-APPLE-STRUCTURED-LOCATION;VALUE=URI;X-ADDRESS=Urban Well Yoga Studio 119 N Duke Street Lancaster 17602 United States;X-APPLE-RADIUS=500;X-TITLE=119 N Duke Street:geo:-76.3034829,40.0404244
END:VEVENT
BEGIN:VEVENT
DTSTART;TZID=America/New_York:20270720T100000
DTEND;TZID=America/New_York:20270720T100000
DTSTAMP:20260421T044918
CREATED:20241223T135753Z
LAST-MODIFIED:20251002T122212Z
UID:10067452-1816077600-1816077600@www.saintjameslancaster.org
SUMMARY:Mindful Yoga\, Chair
DESCRIPTION:Chair Yoga\nChair yoga is an adaptable and accessible yoga practice that anyone can enjoy\, regardless of age\, flexibility or fitness level\, and those whose work life is spent seated.  Chair yoga is perfect for experiencing the benefits of yoga while using a chair for support and having fun. \n  \nClick here for more details and to purchase sessions.
URL:https://www.saintjameslancaster.org/event/mindful-yoga-chair/2027-07-20/
LOCATION:Saint James Parish House – Yoga Studio in the Lower Level\, 119 North Duke Street\, Lancaster\, PA\, 17602
CATEGORIES:Chair Yoga,Yoga
ATTACH;FMTTYPE=image/jpeg:https://www.saintjameslancaster.org/wp-content/uploads/2025/10/Featured-Image-300px-copy.jpg
GEO:40.0404103;-76.303616
X-APPLE-STRUCTURED-LOCATION;VALUE=URI;X-ADDRESS=Saint James Parish House – Yoga Studio in the Lower Level 119 North Duke Street Lancaster PA 17602;X-APPLE-RADIUS=500;X-TITLE=119 North Duke Street:geo:-76.303616,40.0404103
END:VEVENT
BEGIN:VEVENT
DTSTART;TZID=America/New_York:20270721T090000
DTEND;TZID=America/New_York:20270721T100000
DTSTAMP:20260421T044918
CREATED:20251119T193027Z
LAST-MODIFIED:20251119T193648Z
UID:10072704-1816160400-1816164000@www.saintjameslancaster.org
SUMMARY:Mindful Yoga
DESCRIPTION:For more information about our Mindful Yoga Weekly Offerings\, click here. You’ll find info on class schedules\, teachers\, and discounts!
URL:https://www.saintjameslancaster.org/event/mindful-yoga/2027-07-21/
LOCATION:Urban Well Yoga Studio\, 119 N Duke Street\, Lancaster\, 17602\, United States
CATEGORIES:Chair Yoga,Gentle Yoga,Mindful Yoga,Restorative Yoga,Yoga
ATTACH;FMTTYPE=image/jpeg:https://www.saintjameslancaster.org/wp-content/uploads/2025/10/Featured-Image-300px-copy.jpg
GEO:40.0404244;-76.3034829
X-APPLE-STRUCTURED-LOCATION;VALUE=URI;X-ADDRESS=Urban Well Yoga Studio 119 N Duke Street Lancaster 17602 United States;X-APPLE-RADIUS=500;X-TITLE=119 N Duke Street:geo:-76.3034829,40.0404244
END:VEVENT
BEGIN:VEVENT
DTSTART;TZID=America/New_York:20270722T110000
DTEND;TZID=America/New_York:20270722T110000
DTSTAMP:20260421T044918
CREATED:20241223T140009Z
LAST-MODIFIED:20251017T180547Z
UID:10067710-1816254000-1816254000@www.saintjameslancaster.org
SUMMARY:Mindful Yoga\, Chair
DESCRIPTION:Chair Yoga\nChair yoga is an adaptable and accessible yoga practice that anyone can enjoy\, regardless of age\, flexibility or fitness level\, and those whose work life is spent seated.  Chair yoga is perfect for experiencing the benefits of yoga while using a chair for support and having fun. \n  \nClick here for more details and to purchase tickets.
URL:https://www.saintjameslancaster.org/event/mindful-yoga-chair-2/2027-07-22/
LOCATION:Saint James Parish House – Yoga Studio in the Lower Level\, 119 North Duke Street\, Lancaster\, PA\, 17602
CATEGORIES:Chair Yoga,Gentle Yoga,Mindful Yoga,Restorative Yoga,Yoga
ATTACH;FMTTYPE=image/jpeg:https://www.saintjameslancaster.org/wp-content/uploads/2025/10/Featured-Image-300px-copy.jpg
GEO:40.0404103;-76.303616
X-APPLE-STRUCTURED-LOCATION;VALUE=URI;X-ADDRESS=Saint James Parish House – Yoga Studio in the Lower Level 119 North Duke Street Lancaster PA 17602;X-APPLE-RADIUS=500;X-TITLE=119 North Duke Street:geo:-76.303616,40.0404103
END:VEVENT
BEGIN:VEVENT
DTSTART;TZID=America/New_York:20270723T090000
DTEND;TZID=America/New_York:20270723T100000
DTSTAMP:20260421T044918
CREATED:20251119T193027Z
LAST-MODIFIED:20251119T193648Z
UID:10072705-1816333200-1816336800@www.saintjameslancaster.org
SUMMARY:Mindful Yoga
DESCRIPTION:For more information about our Mindful Yoga Weekly Offerings\, click here. You’ll find info on class schedules\, teachers\, and discounts!
URL:https://www.saintjameslancaster.org/event/mindful-yoga/2027-07-23/
LOCATION:Urban Well Yoga Studio\, 119 N Duke Street\, Lancaster\, 17602\, United States
CATEGORIES:Chair Yoga,Gentle Yoga,Mindful Yoga,Restorative Yoga,Yoga
ATTACH;FMTTYPE=image/jpeg:https://www.saintjameslancaster.org/wp-content/uploads/2025/10/Featured-Image-300px-copy.jpg
GEO:40.0404244;-76.3034829
X-APPLE-STRUCTURED-LOCATION;VALUE=URI;X-ADDRESS=Urban Well Yoga Studio 119 N Duke Street Lancaster 17602 United States;X-APPLE-RADIUS=500;X-TITLE=119 N Duke Street:geo:-76.3034829,40.0404244
END:VEVENT
BEGIN:VEVENT
DTSTART;TZID=America/New_York:20270726T090000
DTEND;TZID=America/New_York:20270726T100000
DTSTAMP:20260421T044918
CREATED:20251119T193027Z
LAST-MODIFIED:20251119T193648Z
UID:10072706-1816592400-1816596000@www.saintjameslancaster.org
SUMMARY:Mindful Yoga
DESCRIPTION:For more information about our Mindful Yoga Weekly Offerings\, click here. You’ll find info on class schedules\, teachers\, and discounts!
URL:https://www.saintjameslancaster.org/event/mindful-yoga/2027-07-26/
LOCATION:Urban Well Yoga Studio\, 119 N Duke Street\, Lancaster\, 17602\, United States
CATEGORIES:Chair Yoga,Gentle Yoga,Mindful Yoga,Restorative Yoga,Yoga
ATTACH;FMTTYPE=image/jpeg:https://www.saintjameslancaster.org/wp-content/uploads/2025/10/Featured-Image-300px-copy.jpg
GEO:40.0404244;-76.3034829
X-APPLE-STRUCTURED-LOCATION;VALUE=URI;X-ADDRESS=Urban Well Yoga Studio 119 N Duke Street Lancaster 17602 United States;X-APPLE-RADIUS=500;X-TITLE=119 N Duke Street:geo:-76.3034829,40.0404244
END:VEVENT
BEGIN:VEVENT
DTSTART;TZID=America/New_York:20270726T180000
DTEND;TZID=America/New_York:20270726T180000
DTSTAMP:20260421T044918
CREATED:20251119T193505Z
LAST-MODIFIED:20251119T193632Z
UID:10073357-1816624800-1816624800@www.saintjameslancaster.org
SUMMARY:Mindful Yoga
DESCRIPTION:For more information about our Mindful Yoga Weekly Offerings\, click here. You’ll find info on class schedules\, teachers\, and discounts!
URL:https://www.saintjameslancaster.org/event/mindful-yoga-3/2027-07-26/
LOCATION:Urban Well Yoga Studio\, 119 N Duke Street\, Lancaster\, 17602\, United States
CATEGORIES:Chair Yoga,Gentle Yoga,Mindful Yoga,Restorative Yoga,Yoga
ATTACH;FMTTYPE=image/jpeg:https://www.saintjameslancaster.org/wp-content/uploads/2025/10/Featured-Image-300px-copy.jpg
GEO:40.0404244;-76.3034829
X-APPLE-STRUCTURED-LOCATION;VALUE=URI;X-ADDRESS=Urban Well Yoga Studio 119 N Duke Street Lancaster 17602 United States;X-APPLE-RADIUS=500;X-TITLE=119 N Duke Street:geo:-76.3034829,40.0404244
END:VEVENT
BEGIN:VEVENT
DTSTART;TZID=America/New_York:20270727T100000
DTEND;TZID=America/New_York:20270727T100000
DTSTAMP:20260421T044918
CREATED:20241223T135753Z
LAST-MODIFIED:20251002T122212Z
UID:10067453-1816682400-1816682400@www.saintjameslancaster.org
SUMMARY:Mindful Yoga\, Chair
DESCRIPTION:Chair Yoga\nChair yoga is an adaptable and accessible yoga practice that anyone can enjoy\, regardless of age\, flexibility or fitness level\, and those whose work life is spent seated.  Chair yoga is perfect for experiencing the benefits of yoga while using a chair for support and having fun. \n  \nClick here for more details and to purchase sessions.
URL:https://www.saintjameslancaster.org/event/mindful-yoga-chair/2027-07-27/
LOCATION:Saint James Parish House – Yoga Studio in the Lower Level\, 119 North Duke Street\, Lancaster\, PA\, 17602
CATEGORIES:Chair Yoga,Yoga
ATTACH;FMTTYPE=image/jpeg:https://www.saintjameslancaster.org/wp-content/uploads/2025/10/Featured-Image-300px-copy.jpg
GEO:40.0404103;-76.303616
X-APPLE-STRUCTURED-LOCATION;VALUE=URI;X-ADDRESS=Saint James Parish House – Yoga Studio in the Lower Level 119 North Duke Street Lancaster PA 17602;X-APPLE-RADIUS=500;X-TITLE=119 North Duke Street:geo:-76.303616,40.0404103
END:VEVENT
BEGIN:VEVENT
DTSTART;TZID=America/New_York:20270728T090000
DTEND;TZID=America/New_York:20270728T100000
DTSTAMP:20260421T044918
CREATED:20251119T193027Z
LAST-MODIFIED:20251119T193648Z
UID:10072707-1816765200-1816768800@www.saintjameslancaster.org
SUMMARY:Mindful Yoga
DESCRIPTION:For more information about our Mindful Yoga Weekly Offerings\, click here. You’ll find info on class schedules\, teachers\, and discounts!
URL:https://www.saintjameslancaster.org/event/mindful-yoga/2027-07-28/
LOCATION:Urban Well Yoga Studio\, 119 N Duke Street\, Lancaster\, 17602\, United States
CATEGORIES:Chair Yoga,Gentle Yoga,Mindful Yoga,Restorative Yoga,Yoga
ATTACH;FMTTYPE=image/jpeg:https://www.saintjameslancaster.org/wp-content/uploads/2025/10/Featured-Image-300px-copy.jpg
GEO:40.0404244;-76.3034829
X-APPLE-STRUCTURED-LOCATION;VALUE=URI;X-ADDRESS=Urban Well Yoga Studio 119 N Duke Street Lancaster 17602 United States;X-APPLE-RADIUS=500;X-TITLE=119 N Duke Street:geo:-76.3034829,40.0404244
END:VEVENT
BEGIN:VEVENT
DTSTART;TZID=America/New_York:20270729T110000
DTEND;TZID=America/New_York:20270729T110000
DTSTAMP:20260421T044918
CREATED:20241223T140009Z
LAST-MODIFIED:20251017T180547Z
UID:10067711-1816858800-1816858800@www.saintjameslancaster.org
SUMMARY:Mindful Yoga\, Chair
DESCRIPTION:Chair Yoga\nChair yoga is an adaptable and accessible yoga practice that anyone can enjoy\, regardless of age\, flexibility or fitness level\, and those whose work life is spent seated.  Chair yoga is perfect for experiencing the benefits of yoga while using a chair for support and having fun. \n  \nClick here for more details and to purchase tickets.
URL:https://www.saintjameslancaster.org/event/mindful-yoga-chair-2/2027-07-29/
LOCATION:Saint James Parish House – Yoga Studio in the Lower Level\, 119 North Duke Street\, Lancaster\, PA\, 17602
CATEGORIES:Chair Yoga,Gentle Yoga,Mindful Yoga,Restorative Yoga,Yoga
ATTACH;FMTTYPE=image/jpeg:https://www.saintjameslancaster.org/wp-content/uploads/2025/10/Featured-Image-300px-copy.jpg
GEO:40.0404103;-76.303616
X-APPLE-STRUCTURED-LOCATION;VALUE=URI;X-ADDRESS=Saint James Parish House – Yoga Studio in the Lower Level 119 North Duke Street Lancaster PA 17602;X-APPLE-RADIUS=500;X-TITLE=119 North Duke Street:geo:-76.303616,40.0404103
END:VEVENT
BEGIN:VEVENT
DTSTART;TZID=America/New_York:20270730T090000
DTEND;TZID=America/New_York:20270730T100000
DTSTAMP:20260421T044918
CREATED:20251119T193027Z
LAST-MODIFIED:20251119T193648Z
UID:10072708-1816938000-1816941600@www.saintjameslancaster.org
SUMMARY:Mindful Yoga
DESCRIPTION:For more information about our Mindful Yoga Weekly Offerings\, click here. You’ll find info on class schedules\, teachers\, and discounts!
URL:https://www.saintjameslancaster.org/event/mindful-yoga/2027-07-30/
LOCATION:Urban Well Yoga Studio\, 119 N Duke Street\, Lancaster\, 17602\, United States
CATEGORIES:Chair Yoga,Gentle Yoga,Mindful Yoga,Restorative Yoga,Yoga
ATTACH;FMTTYPE=image/jpeg:https://www.saintjameslancaster.org/wp-content/uploads/2025/10/Featured-Image-300px-copy.jpg
GEO:40.0404244;-76.3034829
X-APPLE-STRUCTURED-LOCATION;VALUE=URI;X-ADDRESS=Urban Well Yoga Studio 119 N Duke Street Lancaster 17602 United States;X-APPLE-RADIUS=500;X-TITLE=119 N Duke Street:geo:-76.3034829,40.0404244
END:VEVENT
END:VCALENDAR