BEGIN:VCALENDAR
VERSION:2.0
PRODID:-//Saint James &amp; The Urban Well - ECPv6.15.20//NONSGML v1.0//EN
CALSCALE:GREGORIAN
METHOD:PUBLISH
X-WR-CALNAME:Saint James &amp; The Urban Well
X-ORIGINAL-URL:https://www.saintjameslancaster.org
X-WR-CALDESC:Events for Saint James &amp; The Urban Well
REFRESH-INTERVAL;VALUE=DURATION:PT1H
X-Robots-Tag:noindex
X-PUBLISHED-TTL:PT1H
BEGIN:VTIMEZONE
TZID:America/New_York
BEGIN:DAYLIGHT
TZOFFSETFROM:-0500
TZOFFSETTO:-0400
TZNAME:EDT
DTSTART:20240310T070000
END:DAYLIGHT
BEGIN:STANDARD
TZOFFSETFROM:-0400
TZOFFSETTO:-0500
TZNAME:EST
DTSTART:20241103T060000
END:STANDARD
BEGIN:DAYLIGHT
TZOFFSETFROM:-0500
TZOFFSETTO:-0400
TZNAME:EDT
DTSTART:20250309T070000
END:DAYLIGHT
BEGIN:STANDARD
TZOFFSETFROM:-0400
TZOFFSETTO:-0500
TZNAME:EST
DTSTART:20251102T060000
END:STANDARD
BEGIN:DAYLIGHT
TZOFFSETFROM:-0500
TZOFFSETTO:-0400
TZNAME:EDT
DTSTART:20260308T070000
END:DAYLIGHT
BEGIN:STANDARD
TZOFFSETFROM:-0400
TZOFFSETTO:-0500
TZNAME:EST
DTSTART:20261101T060000
END:STANDARD
END:VTIMEZONE
BEGIN:VEVENT
DTSTART;TZID=America/New_York:20250902T100000
DTEND;TZID=America/New_York:20250902T100000
DTSTAMP:20260420T154634
CREATED:20241223T135753Z
LAST-MODIFIED:20251002T122212Z
UID:10067354-1756807200-1756807200@www.saintjameslancaster.org
SUMMARY:Mindful Yoga\, Chair
DESCRIPTION:Chair Yoga\nChair yoga is an adaptable and accessible yoga practice that anyone can enjoy\, regardless of age\, flexibility or fitness level\, and those whose work life is spent seated.  Chair yoga is perfect for experiencing the benefits of yoga while using a chair for support and having fun. \n  \nClick here for more details and to purchase sessions.
URL:https://www.saintjameslancaster.org/event/mindful-yoga-chair/2025-09-02/
LOCATION:Saint James Parish House – Yoga Studio in the Lower Level\, 119 North Duke Street\, Lancaster\, PA\, 17602
CATEGORIES:Chair Yoga,Yoga
ATTACH;FMTTYPE=image/jpeg:https://www.saintjameslancaster.org/wp-content/uploads/2025/10/Featured-Image-300px-copy.jpg
GEO:40.0404103;-76.303616
X-APPLE-STRUCTURED-LOCATION;VALUE=URI;X-ADDRESS=Saint James Parish House – Yoga Studio in the Lower Level 119 North Duke Street Lancaster PA 17602;X-APPLE-RADIUS=500;X-TITLE=119 North Duke Street:geo:-76.303616,40.0404103
END:VEVENT
BEGIN:VEVENT
DTSTART;TZID=America/New_York:20250909T100000
DTEND;TZID=America/New_York:20250909T100000
DTSTAMP:20260420T154634
CREATED:20241223T135753Z
LAST-MODIFIED:20251002T122212Z
UID:10067355-1757412000-1757412000@www.saintjameslancaster.org
SUMMARY:Mindful Yoga\, Chair
DESCRIPTION:Chair Yoga\nChair yoga is an adaptable and accessible yoga practice that anyone can enjoy\, regardless of age\, flexibility or fitness level\, and those whose work life is spent seated.  Chair yoga is perfect for experiencing the benefits of yoga while using a chair for support and having fun. \n  \nClick here for more details and to purchase sessions.
URL:https://www.saintjameslancaster.org/event/mindful-yoga-chair/2025-09-09/
LOCATION:Saint James Parish House – Yoga Studio in the Lower Level\, 119 North Duke Street\, Lancaster\, PA\, 17602
CATEGORIES:Chair Yoga,Yoga
ATTACH;FMTTYPE=image/jpeg:https://www.saintjameslancaster.org/wp-content/uploads/2025/10/Featured-Image-300px-copy.jpg
GEO:40.0404103;-76.303616
X-APPLE-STRUCTURED-LOCATION;VALUE=URI;X-ADDRESS=Saint James Parish House – Yoga Studio in the Lower Level 119 North Duke Street Lancaster PA 17602;X-APPLE-RADIUS=500;X-TITLE=119 North Duke Street:geo:-76.303616,40.0404103
END:VEVENT
BEGIN:VEVENT
DTSTART;TZID=America/New_York:20250916T100000
DTEND;TZID=America/New_York:20250916T100000
DTSTAMP:20260420T154634
CREATED:20241223T135753Z
LAST-MODIFIED:20251002T122212Z
UID:10067356-1758016800-1758016800@www.saintjameslancaster.org
SUMMARY:Mindful Yoga\, Chair
DESCRIPTION:Chair Yoga\nChair yoga is an adaptable and accessible yoga practice that anyone can enjoy\, regardless of age\, flexibility or fitness level\, and those whose work life is spent seated.  Chair yoga is perfect for experiencing the benefits of yoga while using a chair for support and having fun. \n  \nClick here for more details and to purchase sessions.
URL:https://www.saintjameslancaster.org/event/mindful-yoga-chair/2025-09-16/
LOCATION:Saint James Parish House – Yoga Studio in the Lower Level\, 119 North Duke Street\, Lancaster\, PA\, 17602
CATEGORIES:Chair Yoga,Yoga
ATTACH;FMTTYPE=image/jpeg:https://www.saintjameslancaster.org/wp-content/uploads/2025/10/Featured-Image-300px-copy.jpg
GEO:40.0404103;-76.303616
X-APPLE-STRUCTURED-LOCATION;VALUE=URI;X-ADDRESS=Saint James Parish House – Yoga Studio in the Lower Level 119 North Duke Street Lancaster PA 17602;X-APPLE-RADIUS=500;X-TITLE=119 North Duke Street:geo:-76.303616,40.0404103
END:VEVENT
BEGIN:VEVENT
DTSTART;TZID=America/New_York:20250923T100000
DTEND;TZID=America/New_York:20250923T100000
DTSTAMP:20260420T154634
CREATED:20241223T135753Z
LAST-MODIFIED:20251002T122212Z
UID:10067357-1758621600-1758621600@www.saintjameslancaster.org
SUMMARY:Mindful Yoga\, Chair
DESCRIPTION:Chair Yoga\nChair yoga is an adaptable and accessible yoga practice that anyone can enjoy\, regardless of age\, flexibility or fitness level\, and those whose work life is spent seated.  Chair yoga is perfect for experiencing the benefits of yoga while using a chair for support and having fun. \n  \nClick here for more details and to purchase sessions.
URL:https://www.saintjameslancaster.org/event/mindful-yoga-chair/2025-09-23/
LOCATION:Saint James Parish House – Yoga Studio in the Lower Level\, 119 North Duke Street\, Lancaster\, PA\, 17602
CATEGORIES:Chair Yoga,Yoga
ATTACH;FMTTYPE=image/jpeg:https://www.saintjameslancaster.org/wp-content/uploads/2025/10/Featured-Image-300px-copy.jpg
GEO:40.0404103;-76.303616
X-APPLE-STRUCTURED-LOCATION;VALUE=URI;X-ADDRESS=Saint James Parish House – Yoga Studio in the Lower Level 119 North Duke Street Lancaster PA 17602;X-APPLE-RADIUS=500;X-TITLE=119 North Duke Street:geo:-76.303616,40.0404103
END:VEVENT
BEGIN:VEVENT
DTSTART;TZID=America/New_York:20250930T100000
DTEND;TZID=America/New_York:20250930T100000
DTSTAMP:20260420T154634
CREATED:20241223T135753Z
LAST-MODIFIED:20251002T122212Z
UID:10067358-1759226400-1759226400@www.saintjameslancaster.org
SUMMARY:Mindful Yoga\, Chair
DESCRIPTION:Chair Yoga\nChair yoga is an adaptable and accessible yoga practice that anyone can enjoy\, regardless of age\, flexibility or fitness level\, and those whose work life is spent seated.  Chair yoga is perfect for experiencing the benefits of yoga while using a chair for support and having fun. \n  \nClick here for more details and to purchase sessions.
URL:https://www.saintjameslancaster.org/event/mindful-yoga-chair/2025-09-30/
LOCATION:Saint James Parish House – Yoga Studio in the Lower Level\, 119 North Duke Street\, Lancaster\, PA\, 17602
CATEGORIES:Chair Yoga,Yoga
ATTACH;FMTTYPE=image/jpeg:https://www.saintjameslancaster.org/wp-content/uploads/2025/10/Featured-Image-300px-copy.jpg
GEO:40.0404103;-76.303616
X-APPLE-STRUCTURED-LOCATION;VALUE=URI;X-ADDRESS=Saint James Parish House – Yoga Studio in the Lower Level 119 North Duke Street Lancaster PA 17602;X-APPLE-RADIUS=500;X-TITLE=119 North Duke Street:geo:-76.303616,40.0404103
END:VEVENT
END:VCALENDAR