BEGIN:VCALENDAR
VERSION:2.0
PRODID:-//Saint James &amp; The Urban Well - ECPv6.15.20//NONSGML v1.0//EN
CALSCALE:GREGORIAN
METHOD:PUBLISH
X-WR-CALNAME:Saint James &amp; The Urban Well
X-ORIGINAL-URL:https://www.saintjameslancaster.org
X-WR-CALDESC:Events for Saint James &amp; The Urban Well
REFRESH-INTERVAL;VALUE=DURATION:PT1H
X-Robots-Tag:noindex
X-PUBLISHED-TTL:PT1H
BEGIN:VTIMEZONE
TZID:America/New_York
BEGIN:DAYLIGHT
TZOFFSETFROM:-0500
TZOFFSETTO:-0400
TZNAME:EDT
DTSTART:20250309T070000
END:DAYLIGHT
BEGIN:STANDARD
TZOFFSETFROM:-0400
TZOFFSETTO:-0500
TZNAME:EST
DTSTART:20251102T060000
END:STANDARD
BEGIN:DAYLIGHT
TZOFFSETFROM:-0500
TZOFFSETTO:-0400
TZNAME:EDT
DTSTART:20260308T070000
END:DAYLIGHT
BEGIN:STANDARD
TZOFFSETFROM:-0400
TZOFFSETTO:-0500
TZNAME:EST
DTSTART:20261101T060000
END:STANDARD
BEGIN:DAYLIGHT
TZOFFSETFROM:-0500
TZOFFSETTO:-0400
TZNAME:EDT
DTSTART:20270314T070000
END:DAYLIGHT
BEGIN:STANDARD
TZOFFSETFROM:-0400
TZOFFSETTO:-0500
TZNAME:EST
DTSTART:20271107T060000
END:STANDARD
END:VTIMEZONE
BEGIN:VEVENT
DTSTART;TZID=America/New_York:20260303T100000
DTEND;TZID=America/New_York:20260303T100000
DTSTAMP:20260420T055934
CREATED:20260303T112113Z
LAST-MODIFIED:20260303T112118Z
UID:10067380-1772532000-1772532000@www.saintjameslancaster.org
SUMMARY:Mindful Yoga\, Chair
DESCRIPTION:Chair Yoga\nChair yoga is an adaptable and accessible yoga practice that anyone can enjoy\, regardless of age\, flexibility or fitness level\, and those whose work life is spent seated.  Chair yoga is perfect for experiencing the benefits of yoga while using a chair for support and having fun. \n  \nClick here for more details and to purchase sessions.
URL:https://www.saintjameslancaster.org/event/mindful-yoga-chair-6/
LOCATION:Saint James Parish House – Yoga Studio in the Lower Level\, 119 North Duke Street\, Lancaster\, PA\, 17602
CATEGORIES:Chair Yoga,Yoga
ATTACH;FMTTYPE=image/jpeg:https://www.saintjameslancaster.org/wp-content/uploads/2025/10/Featured-Image-300px-copy.jpg
GEO:40.0404103;-76.303616
X-APPLE-STRUCTURED-LOCATION;VALUE=URI;X-ADDRESS=Saint James Parish House – Yoga Studio in the Lower Level 119 North Duke Street Lancaster PA 17602;X-APPLE-RADIUS=500;X-TITLE=119 North Duke Street:geo:-76.303616,40.0404103
END:VEVENT
BEGIN:VEVENT
DTSTART;TZID=America/New_York:20260310T100000
DTEND;TZID=America/New_York:20260310T100000
DTSTAMP:20260420T055934
CREATED:20241223T135753Z
LAST-MODIFIED:20251002T122212Z
UID:10067381-1773136800-1773136800@www.saintjameslancaster.org
SUMMARY:Mindful Yoga\, Chair
DESCRIPTION:Chair Yoga\nChair yoga is an adaptable and accessible yoga practice that anyone can enjoy\, regardless of age\, flexibility or fitness level\, and those whose work life is spent seated.  Chair yoga is perfect for experiencing the benefits of yoga while using a chair for support and having fun. \n  \nClick here for more details and to purchase sessions.
URL:https://www.saintjameslancaster.org/event/mindful-yoga-chair/2026-03-10/
LOCATION:Saint James Parish House – Yoga Studio in the Lower Level\, 119 North Duke Street\, Lancaster\, PA\, 17602
CATEGORIES:Chair Yoga,Yoga
ATTACH;FMTTYPE=image/jpeg:https://www.saintjameslancaster.org/wp-content/uploads/2025/10/Featured-Image-300px-copy.jpg
GEO:40.0404103;-76.303616
X-APPLE-STRUCTURED-LOCATION;VALUE=URI;X-ADDRESS=Saint James Parish House – Yoga Studio in the Lower Level 119 North Duke Street Lancaster PA 17602;X-APPLE-RADIUS=500;X-TITLE=119 North Duke Street:geo:-76.303616,40.0404103
END:VEVENT
BEGIN:VEVENT
DTSTART;TZID=America/New_York:20260317T100000
DTEND;TZID=America/New_York:20260317T100000
DTSTAMP:20260420T055934
CREATED:20241223T135753Z
LAST-MODIFIED:20251002T122212Z
UID:10067382-1773741600-1773741600@www.saintjameslancaster.org
SUMMARY:Mindful Yoga\, Chair
DESCRIPTION:Chair Yoga\nChair yoga is an adaptable and accessible yoga practice that anyone can enjoy\, regardless of age\, flexibility or fitness level\, and those whose work life is spent seated.  Chair yoga is perfect for experiencing the benefits of yoga while using a chair for support and having fun. \n  \nClick here for more details and to purchase sessions.
URL:https://www.saintjameslancaster.org/event/mindful-yoga-chair/2026-03-17/
LOCATION:Saint James Parish House – Yoga Studio in the Lower Level\, 119 North Duke Street\, Lancaster\, PA\, 17602
CATEGORIES:Chair Yoga,Yoga
ATTACH;FMTTYPE=image/jpeg:https://www.saintjameslancaster.org/wp-content/uploads/2025/10/Featured-Image-300px-copy.jpg
GEO:40.0404103;-76.303616
X-APPLE-STRUCTURED-LOCATION;VALUE=URI;X-ADDRESS=Saint James Parish House – Yoga Studio in the Lower Level 119 North Duke Street Lancaster PA 17602;X-APPLE-RADIUS=500;X-TITLE=119 North Duke Street:geo:-76.303616,40.0404103
END:VEVENT
BEGIN:VEVENT
DTSTART;TZID=America/New_York:20260324T100000
DTEND;TZID=America/New_York:20260324T100000
DTSTAMP:20260420T055934
CREATED:20241223T135753Z
LAST-MODIFIED:20251002T122212Z
UID:10067383-1774346400-1774346400@www.saintjameslancaster.org
SUMMARY:Mindful Yoga\, Chair
DESCRIPTION:Chair Yoga\nChair yoga is an adaptable and accessible yoga practice that anyone can enjoy\, regardless of age\, flexibility or fitness level\, and those whose work life is spent seated.  Chair yoga is perfect for experiencing the benefits of yoga while using a chair for support and having fun. \n  \nClick here for more details and to purchase sessions.
URL:https://www.saintjameslancaster.org/event/mindful-yoga-chair/2026-03-24/
LOCATION:Saint James Parish House – Yoga Studio in the Lower Level\, 119 North Duke Street\, Lancaster\, PA\, 17602
CATEGORIES:Chair Yoga,Yoga
ATTACH;FMTTYPE=image/jpeg:https://www.saintjameslancaster.org/wp-content/uploads/2025/10/Featured-Image-300px-copy.jpg
GEO:40.0404103;-76.303616
X-APPLE-STRUCTURED-LOCATION;VALUE=URI;X-ADDRESS=Saint James Parish House – Yoga Studio in the Lower Level 119 North Duke Street Lancaster PA 17602;X-APPLE-RADIUS=500;X-TITLE=119 North Duke Street:geo:-76.303616,40.0404103
END:VEVENT
BEGIN:VEVENT
DTSTART;TZID=America/New_York:20260331T100000
DTEND;TZID=America/New_York:20260331T100000
DTSTAMP:20260420T055934
CREATED:20241223T135753Z
LAST-MODIFIED:20251002T122212Z
UID:10067384-1774951200-1774951200@www.saintjameslancaster.org
SUMMARY:Mindful Yoga\, Chair
DESCRIPTION:Chair Yoga\nChair yoga is an adaptable and accessible yoga practice that anyone can enjoy\, regardless of age\, flexibility or fitness level\, and those whose work life is spent seated.  Chair yoga is perfect for experiencing the benefits of yoga while using a chair for support and having fun. \n  \nClick here for more details and to purchase sessions.
URL:https://www.saintjameslancaster.org/event/mindful-yoga-chair/2026-03-31/
LOCATION:Saint James Parish House – Yoga Studio in the Lower Level\, 119 North Duke Street\, Lancaster\, PA\, 17602
CATEGORIES:Chair Yoga,Yoga
ATTACH;FMTTYPE=image/jpeg:https://www.saintjameslancaster.org/wp-content/uploads/2025/10/Featured-Image-300px-copy.jpg
GEO:40.0404103;-76.303616
X-APPLE-STRUCTURED-LOCATION;VALUE=URI;X-ADDRESS=Saint James Parish House – Yoga Studio in the Lower Level 119 North Duke Street Lancaster PA 17602;X-APPLE-RADIUS=500;X-TITLE=119 North Duke Street:geo:-76.303616,40.0404103
END:VEVENT
END:VCALENDAR