BEGIN:VCALENDAR
VERSION:2.0
PRODID:-//Saint James &amp; The Urban Well - ECPv6.15.20//NONSGML v1.0//EN
CALSCALE:GREGORIAN
METHOD:PUBLISH
X-WR-CALNAME:Saint James &amp; The Urban Well
X-ORIGINAL-URL:https://www.saintjameslancaster.org
X-WR-CALDESC:Events for Saint James &amp; The Urban Well
REFRESH-INTERVAL;VALUE=DURATION:PT1H
X-Robots-Tag:noindex
X-PUBLISHED-TTL:PT1H
BEGIN:VTIMEZONE
TZID:America/New_York
BEGIN:DAYLIGHT
TZOFFSETFROM:-0500
TZOFFSETTO:-0400
TZNAME:EDT
DTSTART:20250309T070000
END:DAYLIGHT
BEGIN:STANDARD
TZOFFSETFROM:-0400
TZOFFSETTO:-0500
TZNAME:EST
DTSTART:20251102T060000
END:STANDARD
BEGIN:DAYLIGHT
TZOFFSETFROM:-0500
TZOFFSETTO:-0400
TZNAME:EDT
DTSTART:20260308T070000
END:DAYLIGHT
BEGIN:STANDARD
TZOFFSETFROM:-0400
TZOFFSETTO:-0500
TZNAME:EST
DTSTART:20261101T060000
END:STANDARD
BEGIN:DAYLIGHT
TZOFFSETFROM:-0500
TZOFFSETTO:-0400
TZNAME:EDT
DTSTART:20270314T070000
END:DAYLIGHT
BEGIN:STANDARD
TZOFFSETFROM:-0400
TZOFFSETTO:-0500
TZNAME:EST
DTSTART:20271107T060000
END:STANDARD
END:VTIMEZONE
BEGIN:VEVENT
DTSTART;TZID=America/New_York:20260516T110000
DTEND;TZID=America/New_York:20260516T140000
DTSTAMP:20260420T055834
CREATED:20260327T175333Z
LAST-MODIFIED:20260327T180222Z
UID:10074623-1778929200-1778940000@www.saintjameslancaster.org
SUMMARY:Intergenerational Nature Hike and Picnic
DESCRIPTION:All are welcome for a joyful day of fellowship\, food\, and time in nature! Our potluck picnic is open to everyone! \nAt 11:00 AM\, hikers will set off with a park naturalist for a guided walk\, while those who prefer to stay at the pavilion are invited to enjoy a presentation from The Grange on the science of soil management\, crop production\, and responsible agricultural practices. This engaging discussion will explore farming in the United States over the past 250 years and look ahead to its future. \nWhen the hikers return\, we’ll gather for lunch. The Mission & Justice Committee will provide and grill hamburgers and hot dogs. Bring a dish to share. \nRain or shine\, come enjoy time together with your Saint James family! \nClick here to register.
URL:https://www.saintjameslancaster.org/event/intergenerational-nature-hike-and-picnic/
LOCATION:Lancaster County Park\, 1098 Rockford Rd\,\, Lancaster\, PA\, 17602
ATTACH;FMTTYPE=image/jpeg:https://www.saintjameslancaster.org/wp-content/uploads/2025/04/Featured-Image-Hiking-Image-copy.jpg
GEO:40.0242216;-76.2967165
X-APPLE-STRUCTURED-LOCATION;VALUE=URI;X-ADDRESS=Lancaster County Park 1098 Rockford Rd Lancaster PA 17602;X-APPLE-RADIUS=500;X-TITLE=1098 Rockford Rd\,:geo:-76.2967165,40.0242216
END:VEVENT
END:VCALENDAR