BEGIN:VCALENDAR
VERSION:2.0
PRODID:-//Saint James &amp; The Urban Well - ECPv6.15.20//NONSGML v1.0//EN
CALSCALE:GREGORIAN
METHOD:PUBLISH
X-ORIGINAL-URL:https://www.saintjameslancaster.org
X-WR-CALDESC:Events for Saint James &amp; The Urban Well
REFRESH-INTERVAL;VALUE=DURATION:PT1H
X-Robots-Tag:noindex
X-PUBLISHED-TTL:PT1H
BEGIN:VTIMEZONE
TZID:America/New_York
BEGIN:DAYLIGHT
TZOFFSETFROM:-0500
TZOFFSETTO:-0400
TZNAME:EDT
DTSTART:20240310T070000
END:DAYLIGHT
BEGIN:STANDARD
TZOFFSETFROM:-0400
TZOFFSETTO:-0500
TZNAME:EST
DTSTART:20241103T060000
END:STANDARD
BEGIN:DAYLIGHT
TZOFFSETFROM:-0500
TZOFFSETTO:-0400
TZNAME:EDT
DTSTART:20250309T070000
END:DAYLIGHT
BEGIN:STANDARD
TZOFFSETFROM:-0400
TZOFFSETTO:-0500
TZNAME:EST
DTSTART:20251102T060000
END:STANDARD
BEGIN:DAYLIGHT
TZOFFSETFROM:-0500
TZOFFSETTO:-0400
TZNAME:EDT
DTSTART:20260308T070000
END:DAYLIGHT
BEGIN:STANDARD
TZOFFSETFROM:-0400
TZOFFSETTO:-0500
TZNAME:EST
DTSTART:20261101T060000
END:STANDARD
END:VTIMEZONE
BEGIN:VEVENT
DTSTART;TZID=America/New_York:20251202T171500
DTEND;TZID=America/New_York:20251202T181500
DTSTAMP:20260420T122935
CREATED:20250728T180636Z
LAST-MODIFIED:20250728T180845Z
UID:10070910-1764695700-1764699300@www.saintjameslancaster.org
SUMMARY:Ignatian Spirituality
DESCRIPTION:Ignatian Spirituality\nTuesday evenings from 5:15 – 6:15 PM\nSeptember 9 – April 28\, 2026\nIgnatian spirituality is a way of living spirituality in everyday life. It asserts that God is present in our world and actively involved in our lives. It is a pathway to deeper prayer\, good decisions guided by keen discernment and an active life of service to others. \nThis 34-week program is designed for individuals who wish to commit to personal transformation by encountering God and deepening their experience of the divine. It will involve a daily and weekly commitment to spiritual practices with help and support from spiritual director Pat Latshaw. \nThe book\, The Ignatian Adventure by Kevin O’Brien will be used for discussion and to guide the group’s approach to spiritual growth with techniques that have been in use for almost 500 years. \nThe cost is $875 for 34 sessions. Scholarships are available. \nHave questions about scholarships and/or Ignatian Spirituality? Click here to email Pat Latshaw. \nClick here to register for the course.
URL:https://www.saintjameslancaster.org/event/ignatian-spirituality/2025-12-02/
LOCATION:Saint James Parish House Library
ATTACH;FMTTYPE=image/jpeg:https://www.saintjameslancaster.org/wp-content/uploads/2024/08/2024-HOME-Page-copy.jpg
END:VEVENT
BEGIN:VEVENT
DTSTART;TZID=America/New_York:20251125T171500
DTEND;TZID=America/New_York:20251125T181500
DTSTAMP:20260420T122935
CREATED:20250728T180636Z
LAST-MODIFIED:20250728T180845Z
UID:10070909-1764090900-1764094500@www.saintjameslancaster.org
SUMMARY:Ignatian Spirituality
DESCRIPTION:Ignatian Spirituality\nTuesday evenings from 5:15 – 6:15 PM\nSeptember 9 – April 28\, 2026\nIgnatian spirituality is a way of living spirituality in everyday life. It asserts that God is present in our world and actively involved in our lives. It is a pathway to deeper prayer\, good decisions guided by keen discernment and an active life of service to others. \nThis 34-week program is designed for individuals who wish to commit to personal transformation by encountering God and deepening their experience of the divine. It will involve a daily and weekly commitment to spiritual practices with help and support from spiritual director Pat Latshaw. \nThe book\, The Ignatian Adventure by Kevin O’Brien will be used for discussion and to guide the group’s approach to spiritual growth with techniques that have been in use for almost 500 years. \nThe cost is $875 for 34 sessions. Scholarships are available. \nHave questions about scholarships and/or Ignatian Spirituality? Click here to email Pat Latshaw. \nClick here to register for the course.
URL:https://www.saintjameslancaster.org/event/ignatian-spirituality/2025-11-25/
LOCATION:Saint James Parish House Library
ATTACH;FMTTYPE=image/jpeg:https://www.saintjameslancaster.org/wp-content/uploads/2024/08/2024-HOME-Page-copy.jpg
END:VEVENT
BEGIN:VEVENT
DTSTART;TZID=America/New_York:20251118T171500
DTEND;TZID=America/New_York:20251118T181500
DTSTAMP:20260420T122935
CREATED:20250728T180636Z
LAST-MODIFIED:20250728T180845Z
UID:10070908-1763486100-1763489700@www.saintjameslancaster.org
SUMMARY:Ignatian Spirituality
DESCRIPTION:Ignatian Spirituality\nTuesday evenings from 5:15 – 6:15 PM\nSeptember 9 – April 28\, 2026\nIgnatian spirituality is a way of living spirituality in everyday life. It asserts that God is present in our world and actively involved in our lives. It is a pathway to deeper prayer\, good decisions guided by keen discernment and an active life of service to others. \nThis 34-week program is designed for individuals who wish to commit to personal transformation by encountering God and deepening their experience of the divine. It will involve a daily and weekly commitment to spiritual practices with help and support from spiritual director Pat Latshaw. \nThe book\, The Ignatian Adventure by Kevin O’Brien will be used for discussion and to guide the group’s approach to spiritual growth with techniques that have been in use for almost 500 years. \nThe cost is $875 for 34 sessions. Scholarships are available. \nHave questions about scholarships and/or Ignatian Spirituality? Click here to email Pat Latshaw. \nClick here to register for the course.
URL:https://www.saintjameslancaster.org/event/ignatian-spirituality/2025-11-18/
LOCATION:Saint James Parish House Library
ATTACH;FMTTYPE=image/jpeg:https://www.saintjameslancaster.org/wp-content/uploads/2024/08/2024-HOME-Page-copy.jpg
END:VEVENT
BEGIN:VEVENT
DTSTART;TZID=America/New_York:20251116T093000
DTEND;TZID=America/New_York:20251116T101500
DTSTAMP:20260420T122935
CREATED:20250429T183850Z
LAST-MODIFIED:20260225T155054Z
UID:10070184-1763285400-1763288100@www.saintjameslancaster.org
SUMMARY:Women's Bible Study
DESCRIPTION:Join the women of our parish for a transformative journey of Bible study\, prayer and fellowship in the parish house library. This gathering is an opportunity to deepen your relationships\, share your experiences\, and grow in faith together. Let’s lift each other up and spark inspiration in our hearts as we explore the Word of God. Women’s Bible study meets on the 3rd Sunday of every month. Come\, and be a part of this uplifting community! \nIf you have any questions\, please click here to email Kristy Clark.
URL:https://www.saintjameslancaster.org/event/womens-bible-study/2025-11-16/
LOCATION:Saint James Parish House\, 119 North Duke Street\, Lancaster\, PA\, 17602\, United States
CATEGORIES:Bible Study,Women's Group
ATTACH;FMTTYPE=image/jpeg:https://www.saintjameslancaster.org/wp-content/uploads/2025/04/WBS-Feat.-Image-copy.jpg
GEO:40.0404103;-76.303616
X-APPLE-STRUCTURED-LOCATION;VALUE=URI;X-ADDRESS=Saint James Parish House 119 North Duke Street Lancaster PA 17602 United States;X-APPLE-RADIUS=500;X-TITLE=119 North Duke Street:geo:-76.303616,40.0404103
END:VEVENT
BEGIN:VEVENT
DTSTART;TZID=America/New_York:20251111T171500
DTEND;TZID=America/New_York:20251111T181500
DTSTAMP:20260420T122935
CREATED:20250728T180636Z
LAST-MODIFIED:20250728T180845Z
UID:10070907-1762881300-1762884900@www.saintjameslancaster.org
SUMMARY:Ignatian Spirituality
DESCRIPTION:Ignatian Spirituality\nTuesday evenings from 5:15 – 6:15 PM\nSeptember 9 – April 28\, 2026\nIgnatian spirituality is a way of living spirituality in everyday life. It asserts that God is present in our world and actively involved in our lives. It is a pathway to deeper prayer\, good decisions guided by keen discernment and an active life of service to others. \nThis 34-week program is designed for individuals who wish to commit to personal transformation by encountering God and deepening their experience of the divine. It will involve a daily and weekly commitment to spiritual practices with help and support from spiritual director Pat Latshaw. \nThe book\, The Ignatian Adventure by Kevin O’Brien will be used for discussion and to guide the group’s approach to spiritual growth with techniques that have been in use for almost 500 years. \nThe cost is $875 for 34 sessions. Scholarships are available. \nHave questions about scholarships and/or Ignatian Spirituality? Click here to email Pat Latshaw. \nClick here to register for the course.
URL:https://www.saintjameslancaster.org/event/ignatian-spirituality/2025-11-11/
LOCATION:Saint James Parish House Library
ATTACH;FMTTYPE=image/jpeg:https://www.saintjameslancaster.org/wp-content/uploads/2024/08/2024-HOME-Page-copy.jpg
END:VEVENT
BEGIN:VEVENT
DTSTART;TZID=America/New_York:20251104T171500
DTEND;TZID=America/New_York:20251104T181500
DTSTAMP:20260420T122935
CREATED:20250728T180636Z
LAST-MODIFIED:20250728T180845Z
UID:10070906-1762276500-1762280100@www.saintjameslancaster.org
SUMMARY:Ignatian Spirituality
DESCRIPTION:Ignatian Spirituality\nTuesday evenings from 5:15 – 6:15 PM\nSeptember 9 – April 28\, 2026\nIgnatian spirituality is a way of living spirituality in everyday life. It asserts that God is present in our world and actively involved in our lives. It is a pathway to deeper prayer\, good decisions guided by keen discernment and an active life of service to others. \nThis 34-week program is designed for individuals who wish to commit to personal transformation by encountering God and deepening their experience of the divine. It will involve a daily and weekly commitment to spiritual practices with help and support from spiritual director Pat Latshaw. \nThe book\, The Ignatian Adventure by Kevin O’Brien will be used for discussion and to guide the group’s approach to spiritual growth with techniques that have been in use for almost 500 years. \nThe cost is $875 for 34 sessions. Scholarships are available. \nHave questions about scholarships and/or Ignatian Spirituality? Click here to email Pat Latshaw. \nClick here to register for the course.
URL:https://www.saintjameslancaster.org/event/ignatian-spirituality/2025-11-04/
LOCATION:Saint James Parish House Library
ATTACH;FMTTYPE=image/jpeg:https://www.saintjameslancaster.org/wp-content/uploads/2024/08/2024-HOME-Page-copy.jpg
END:VEVENT
BEGIN:VEVENT
DTSTART;TZID=America/New_York:20251028T171500
DTEND;TZID=America/New_York:20251028T181500
DTSTAMP:20260420T122935
CREATED:20250728T180636Z
LAST-MODIFIED:20250728T180845Z
UID:10070905-1761671700-1761675300@www.saintjameslancaster.org
SUMMARY:Ignatian Spirituality
DESCRIPTION:Ignatian Spirituality\nTuesday evenings from 5:15 – 6:15 PM\nSeptember 9 – April 28\, 2026\nIgnatian spirituality is a way of living spirituality in everyday life. It asserts that God is present in our world and actively involved in our lives. It is a pathway to deeper prayer\, good decisions guided by keen discernment and an active life of service to others. \nThis 34-week program is designed for individuals who wish to commit to personal transformation by encountering God and deepening their experience of the divine. It will involve a daily and weekly commitment to spiritual practices with help and support from spiritual director Pat Latshaw. \nThe book\, The Ignatian Adventure by Kevin O’Brien will be used for discussion and to guide the group’s approach to spiritual growth with techniques that have been in use for almost 500 years. \nThe cost is $875 for 34 sessions. Scholarships are available. \nHave questions about scholarships and/or Ignatian Spirituality? Click here to email Pat Latshaw. \nClick here to register for the course.
URL:https://www.saintjameslancaster.org/event/ignatian-spirituality/2025-10-28/
LOCATION:Saint James Parish House Library
ATTACH;FMTTYPE=image/jpeg:https://www.saintjameslancaster.org/wp-content/uploads/2024/08/2024-HOME-Page-copy.jpg
END:VEVENT
BEGIN:VEVENT
DTSTART;TZID=America/New_York:20251021T171500
DTEND;TZID=America/New_York:20251021T181500
DTSTAMP:20260420T122935
CREATED:20250728T180636Z
LAST-MODIFIED:20250728T180845Z
UID:10070904-1761066900-1761070500@www.saintjameslancaster.org
SUMMARY:Ignatian Spirituality
DESCRIPTION:Ignatian Spirituality\nTuesday evenings from 5:15 – 6:15 PM\nSeptember 9 – April 28\, 2026\nIgnatian spirituality is a way of living spirituality in everyday life. It asserts that God is present in our world and actively involved in our lives. It is a pathway to deeper prayer\, good decisions guided by keen discernment and an active life of service to others. \nThis 34-week program is designed for individuals who wish to commit to personal transformation by encountering God and deepening their experience of the divine. It will involve a daily and weekly commitment to spiritual practices with help and support from spiritual director Pat Latshaw. \nThe book\, The Ignatian Adventure by Kevin O’Brien will be used for discussion and to guide the group’s approach to spiritual growth with techniques that have been in use for almost 500 years. \nThe cost is $875 for 34 sessions. Scholarships are available. \nHave questions about scholarships and/or Ignatian Spirituality? Click here to email Pat Latshaw. \nClick here to register for the course.
URL:https://www.saintjameslancaster.org/event/ignatian-spirituality/2025-10-21/
LOCATION:Saint James Parish House Library
ATTACH;FMTTYPE=image/jpeg:https://www.saintjameslancaster.org/wp-content/uploads/2024/08/2024-HOME-Page-copy.jpg
END:VEVENT
BEGIN:VEVENT
DTSTART;TZID=America/New_York:20251019T093000
DTEND;TZID=America/New_York:20251019T101500
DTSTAMP:20260420T122935
CREATED:20250429T183850Z
LAST-MODIFIED:20260225T155054Z
UID:10070183-1760866200-1760868900@www.saintjameslancaster.org
SUMMARY:Women's Bible Study
DESCRIPTION:Join the women of our parish for a transformative journey of Bible study\, prayer and fellowship in the parish house library. This gathering is an opportunity to deepen your relationships\, share your experiences\, and grow in faith together. Let’s lift each other up and spark inspiration in our hearts as we explore the Word of God. Women’s Bible study meets on the 3rd Sunday of every month. Come\, and be a part of this uplifting community! \nIf you have any questions\, please click here to email Kristy Clark.
URL:https://www.saintjameslancaster.org/event/womens-bible-study/2025-10-19/
LOCATION:Saint James Parish House\, 119 North Duke Street\, Lancaster\, PA\, 17602\, United States
CATEGORIES:Bible Study,Women's Group
ATTACH;FMTTYPE=image/jpeg:https://www.saintjameslancaster.org/wp-content/uploads/2025/04/WBS-Feat.-Image-copy.jpg
GEO:40.0404103;-76.303616
X-APPLE-STRUCTURED-LOCATION;VALUE=URI;X-ADDRESS=Saint James Parish House 119 North Duke Street Lancaster PA 17602 United States;X-APPLE-RADIUS=500;X-TITLE=119 North Duke Street:geo:-76.303616,40.0404103
END:VEVENT
BEGIN:VEVENT
DTSTART;TZID=America/New_York:20251014T171500
DTEND;TZID=America/New_York:20251014T181500
DTSTAMP:20260420T122935
CREATED:20250728T180636Z
LAST-MODIFIED:20250728T180845Z
UID:10070903-1760462100-1760465700@www.saintjameslancaster.org
SUMMARY:Ignatian Spirituality
DESCRIPTION:Ignatian Spirituality\nTuesday evenings from 5:15 – 6:15 PM\nSeptember 9 – April 28\, 2026\nIgnatian spirituality is a way of living spirituality in everyday life. It asserts that God is present in our world and actively involved in our lives. It is a pathway to deeper prayer\, good decisions guided by keen discernment and an active life of service to others. \nThis 34-week program is designed for individuals who wish to commit to personal transformation by encountering God and deepening their experience of the divine. It will involve a daily and weekly commitment to spiritual practices with help and support from spiritual director Pat Latshaw. \nThe book\, The Ignatian Adventure by Kevin O’Brien will be used for discussion and to guide the group’s approach to spiritual growth with techniques that have been in use for almost 500 years. \nThe cost is $875 for 34 sessions. Scholarships are available. \nHave questions about scholarships and/or Ignatian Spirituality? Click here to email Pat Latshaw. \nClick here to register for the course.
URL:https://www.saintjameslancaster.org/event/ignatian-spirituality/2025-10-14/
LOCATION:Saint James Parish House Library
ATTACH;FMTTYPE=image/jpeg:https://www.saintjameslancaster.org/wp-content/uploads/2024/08/2024-HOME-Page-copy.jpg
END:VEVENT
BEGIN:VEVENT
DTSTART;TZID=America/New_York:20251007T171500
DTEND;TZID=America/New_York:20251007T181500
DTSTAMP:20260420T122935
CREATED:20250728T180636Z
LAST-MODIFIED:20250728T180845Z
UID:10070902-1759857300-1759860900@www.saintjameslancaster.org
SUMMARY:Ignatian Spirituality
DESCRIPTION:Ignatian Spirituality\nTuesday evenings from 5:15 – 6:15 PM\nSeptember 9 – April 28\, 2026\nIgnatian spirituality is a way of living spirituality in everyday life. It asserts that God is present in our world and actively involved in our lives. It is a pathway to deeper prayer\, good decisions guided by keen discernment and an active life of service to others. \nThis 34-week program is designed for individuals who wish to commit to personal transformation by encountering God and deepening their experience of the divine. It will involve a daily and weekly commitment to spiritual practices with help and support from spiritual director Pat Latshaw. \nThe book\, The Ignatian Adventure by Kevin O’Brien will be used for discussion and to guide the group’s approach to spiritual growth with techniques that have been in use for almost 500 years. \nThe cost is $875 for 34 sessions. Scholarships are available. \nHave questions about scholarships and/or Ignatian Spirituality? Click here to email Pat Latshaw. \nClick here to register for the course.
URL:https://www.saintjameslancaster.org/event/ignatian-spirituality/2025-10-07/
LOCATION:Saint James Parish House Library
ATTACH;FMTTYPE=image/jpeg:https://www.saintjameslancaster.org/wp-content/uploads/2024/08/2024-HOME-Page-copy.jpg
END:VEVENT
BEGIN:VEVENT
DTSTART;TZID=America/New_York:20250930T171500
DTEND;TZID=America/New_York:20250930T181500
DTSTAMP:20260420T122935
CREATED:20250728T180636Z
LAST-MODIFIED:20250728T180845Z
UID:10070901-1759252500-1759256100@www.saintjameslancaster.org
SUMMARY:Ignatian Spirituality
DESCRIPTION:Ignatian Spirituality\nTuesday evenings from 5:15 – 6:15 PM\nSeptember 9 – April 28\, 2026\nIgnatian spirituality is a way of living spirituality in everyday life. It asserts that God is present in our world and actively involved in our lives. It is a pathway to deeper prayer\, good decisions guided by keen discernment and an active life of service to others. \nThis 34-week program is designed for individuals who wish to commit to personal transformation by encountering God and deepening their experience of the divine. It will involve a daily and weekly commitment to spiritual practices with help and support from spiritual director Pat Latshaw. \nThe book\, The Ignatian Adventure by Kevin O’Brien will be used for discussion and to guide the group’s approach to spiritual growth with techniques that have been in use for almost 500 years. \nThe cost is $875 for 34 sessions. Scholarships are available. \nHave questions about scholarships and/or Ignatian Spirituality? Click here to email Pat Latshaw. \nClick here to register for the course.
URL:https://www.saintjameslancaster.org/event/ignatian-spirituality/2025-09-30/
LOCATION:Saint James Parish House Library
ATTACH;FMTTYPE=image/jpeg:https://www.saintjameslancaster.org/wp-content/uploads/2024/08/2024-HOME-Page-copy.jpg
END:VEVENT
BEGIN:VEVENT
DTSTART;TZID=America/New_York:20250923T171500
DTEND;TZID=America/New_York:20250923T181500
DTSTAMP:20260420T122935
CREATED:20250728T180636Z
LAST-MODIFIED:20250728T180845Z
UID:10070900-1758647700-1758651300@www.saintjameslancaster.org
SUMMARY:Ignatian Spirituality
DESCRIPTION:Ignatian Spirituality\nTuesday evenings from 5:15 – 6:15 PM\nSeptember 9 – April 28\, 2026\nIgnatian spirituality is a way of living spirituality in everyday life. It asserts that God is present in our world and actively involved in our lives. It is a pathway to deeper prayer\, good decisions guided by keen discernment and an active life of service to others. \nThis 34-week program is designed for individuals who wish to commit to personal transformation by encountering God and deepening their experience of the divine. It will involve a daily and weekly commitment to spiritual practices with help and support from spiritual director Pat Latshaw. \nThe book\, The Ignatian Adventure by Kevin O’Brien will be used for discussion and to guide the group’s approach to spiritual growth with techniques that have been in use for almost 500 years. \nThe cost is $875 for 34 sessions. Scholarships are available. \nHave questions about scholarships and/or Ignatian Spirituality? Click here to email Pat Latshaw. \nClick here to register for the course.
URL:https://www.saintjameslancaster.org/event/ignatian-spirituality/2025-09-23/
LOCATION:Saint James Parish House Library
ATTACH;FMTTYPE=image/jpeg:https://www.saintjameslancaster.org/wp-content/uploads/2024/08/2024-HOME-Page-copy.jpg
END:VEVENT
BEGIN:VEVENT
DTSTART;TZID=America/New_York:20250921T093000
DTEND;TZID=America/New_York:20250921T101500
DTSTAMP:20260420T122935
CREATED:20250429T183850Z
LAST-MODIFIED:20260225T155054Z
UID:10070182-1758447000-1758449700@www.saintjameslancaster.org
SUMMARY:Women's Bible Study
DESCRIPTION:Join the women of our parish for a transformative journey of Bible study\, prayer and fellowship in the parish house library. This gathering is an opportunity to deepen your relationships\, share your experiences\, and grow in faith together. Let’s lift each other up and spark inspiration in our hearts as we explore the Word of God. Women’s Bible study meets on the 3rd Sunday of every month. Come\, and be a part of this uplifting community! \nIf you have any questions\, please click here to email Kristy Clark.
URL:https://www.saintjameslancaster.org/event/womens-bible-study/2025-09-21/
LOCATION:Saint James Parish House\, 119 North Duke Street\, Lancaster\, PA\, 17602\, United States
CATEGORIES:Bible Study,Women's Group
ATTACH;FMTTYPE=image/jpeg:https://www.saintjameslancaster.org/wp-content/uploads/2025/04/WBS-Feat.-Image-copy.jpg
GEO:40.0404103;-76.303616
X-APPLE-STRUCTURED-LOCATION;VALUE=URI;X-ADDRESS=Saint James Parish House 119 North Duke Street Lancaster PA 17602 United States;X-APPLE-RADIUS=500;X-TITLE=119 North Duke Street:geo:-76.303616,40.0404103
END:VEVENT
BEGIN:VEVENT
DTSTART;TZID=America/New_York:20250916T171500
DTEND;TZID=America/New_York:20250916T181500
DTSTAMP:20260420T122935
CREATED:20250728T180636Z
LAST-MODIFIED:20250728T180845Z
UID:10070899-1758042900-1758046500@www.saintjameslancaster.org
SUMMARY:Ignatian Spirituality
DESCRIPTION:Ignatian Spirituality\nTuesday evenings from 5:15 – 6:15 PM\nSeptember 9 – April 28\, 2026\nIgnatian spirituality is a way of living spirituality in everyday life. It asserts that God is present in our world and actively involved in our lives. It is a pathway to deeper prayer\, good decisions guided by keen discernment and an active life of service to others. \nThis 34-week program is designed for individuals who wish to commit to personal transformation by encountering God and deepening their experience of the divine. It will involve a daily and weekly commitment to spiritual practices with help and support from spiritual director Pat Latshaw. \nThe book\, The Ignatian Adventure by Kevin O’Brien will be used for discussion and to guide the group’s approach to spiritual growth with techniques that have been in use for almost 500 years. \nThe cost is $875 for 34 sessions. Scholarships are available. \nHave questions about scholarships and/or Ignatian Spirituality? Click here to email Pat Latshaw. \nClick here to register for the course.
URL:https://www.saintjameslancaster.org/event/ignatian-spirituality/2025-09-16/
LOCATION:Saint James Parish House Library
ATTACH;FMTTYPE=image/jpeg:https://www.saintjameslancaster.org/wp-content/uploads/2024/08/2024-HOME-Page-copy.jpg
END:VEVENT
BEGIN:VEVENT
DTSTART;TZID=America/New_York:20250909T171500
DTEND;TZID=America/New_York:20250909T181500
DTSTAMP:20260420T122935
CREATED:20250728T180636Z
LAST-MODIFIED:20250728T180845Z
UID:10070898-1757438100-1757441700@www.saintjameslancaster.org
SUMMARY:Ignatian Spirituality
DESCRIPTION:Ignatian Spirituality\nTuesday evenings from 5:15 – 6:15 PM\nSeptember 9 – April 28\, 2026\nIgnatian spirituality is a way of living spirituality in everyday life. It asserts that God is present in our world and actively involved in our lives. It is a pathway to deeper prayer\, good decisions guided by keen discernment and an active life of service to others. \nThis 34-week program is designed for individuals who wish to commit to personal transformation by encountering God and deepening their experience of the divine. It will involve a daily and weekly commitment to spiritual practices with help and support from spiritual director Pat Latshaw. \nThe book\, The Ignatian Adventure by Kevin O’Brien will be used for discussion and to guide the group’s approach to spiritual growth with techniques that have been in use for almost 500 years. \nThe cost is $875 for 34 sessions. Scholarships are available. \nHave questions about scholarships and/or Ignatian Spirituality? Click here to email Pat Latshaw. \nClick here to register for the course.
URL:https://www.saintjameslancaster.org/event/ignatian-spirituality/2025-09-09/
LOCATION:Saint James Parish House Library
ATTACH;FMTTYPE=image/jpeg:https://www.saintjameslancaster.org/wp-content/uploads/2024/08/2024-HOME-Page-copy.jpg
END:VEVENT
BEGIN:VEVENT
DTSTART;TZID=America/New_York:20250817T093000
DTEND;TZID=America/New_York:20250817T101500
DTSTAMP:20260420T122935
CREATED:20250429T183850Z
LAST-MODIFIED:20260225T155054Z
UID:10070181-1755423000-1755425700@www.saintjameslancaster.org
SUMMARY:Women's Bible Study
DESCRIPTION:Join the women of our parish for a transformative journey of Bible study\, prayer and fellowship in the parish house library. This gathering is an opportunity to deepen your relationships\, share your experiences\, and grow in faith together. Let’s lift each other up and spark inspiration in our hearts as we explore the Word of God. Women’s Bible study meets on the 3rd Sunday of every month. Come\, and be a part of this uplifting community! \nIf you have any questions\, please click here to email Kristy Clark.
URL:https://www.saintjameslancaster.org/event/womens-bible-study/2025-08-17/
LOCATION:Saint James Parish House\, 119 North Duke Street\, Lancaster\, PA\, 17602\, United States
CATEGORIES:Bible Study,Women's Group
ATTACH;FMTTYPE=image/jpeg:https://www.saintjameslancaster.org/wp-content/uploads/2025/04/WBS-Feat.-Image-copy.jpg
GEO:40.0404103;-76.303616
X-APPLE-STRUCTURED-LOCATION;VALUE=URI;X-ADDRESS=Saint James Parish House 119 North Duke Street Lancaster PA 17602 United States;X-APPLE-RADIUS=500;X-TITLE=119 North Duke Street:geo:-76.303616,40.0404103
END:VEVENT
BEGIN:VEVENT
DTSTART;TZID=America/New_York:20250720T093000
DTEND;TZID=America/New_York:20250720T101500
DTSTAMP:20260420T122935
CREATED:20250429T183850Z
LAST-MODIFIED:20260225T155054Z
UID:10070180-1753003800-1753006500@www.saintjameslancaster.org
SUMMARY:Women's Bible Study
DESCRIPTION:Join the women of our parish for a transformative journey of Bible study\, prayer and fellowship in the parish house library. This gathering is an opportunity to deepen your relationships\, share your experiences\, and grow in faith together. Let’s lift each other up and spark inspiration in our hearts as we explore the Word of God. Women’s Bible study meets on the 3rd Sunday of every month. Come\, and be a part of this uplifting community! \nIf you have any questions\, please click here to email Kristy Clark.
URL:https://www.saintjameslancaster.org/event/womens-bible-study/2025-07-20/
LOCATION:Saint James Parish House\, 119 North Duke Street\, Lancaster\, PA\, 17602\, United States
CATEGORIES:Bible Study,Women's Group
ATTACH;FMTTYPE=image/jpeg:https://www.saintjameslancaster.org/wp-content/uploads/2025/04/WBS-Feat.-Image-copy.jpg
GEO:40.0404103;-76.303616
X-APPLE-STRUCTURED-LOCATION;VALUE=URI;X-ADDRESS=Saint James Parish House 119 North Duke Street Lancaster PA 17602 United States;X-APPLE-RADIUS=500;X-TITLE=119 North Duke Street:geo:-76.303616,40.0404103
END:VEVENT
END:VCALENDAR